BEGIN:VCALENDAR
PRODID:NingEventWidget-v1
VERSION:2.0
METHOD:PUBLISH
BEGIN:VTIMEZONE
TZID:Europe/Paris
X-LIC-LOCATION:Europe/Paris
BEGIN:DAYLIGHT
TZOFFSETFROM:+0100
TZOFFSETTO:+0200
TZNAME:CEST
DTSTART:19700329T020000
RRULE:FREQ=YEARLY;BYMONTH=3;BYDAY=-1SU
END:DAYLIGHT
BEGIN:STANDARD
TZOFFSETFROM:+0200
TZOFFSETTO:+0100
TZNAME:CET
DTSTART:19701025T030000
RRULE:FREQ=YEARLY;BYMONTH=10;BYDAY=-1SU
END:STANDARD
END:VTIMEZONE
BEGIN:VEVENT
UID:2485226:Event:833116
DTSTAMP:20260420T213359Z
SUMMARY:\" Conférence et film HEALING \"
DESCRIPTION:Par Rhianna (F.Louis), thérapeute, coach certifiée, et g
 uide officielle à la Casa de Dom Iniacio, centre de guérison spiirit
 uelle réputé mondialement, où se trouve Jean de Dieu, João Teixeir
 a de Faria, médium-guérisseur, surnommé « L’homme miracle du Br
 ésil », et qui, depuis l’âge de 16 ans, a dédié sa vie à aide
 r l’humanité. Cet homme humble a participé à la guérison au trav
 ers des Entités de Lumière qu’il incorpore à des milliers de pers
 onnes. Cette conférence va nous permettre d’appréhender une nouvel
 le réalité, celle des guérisons miraculeuses, qu’elles soient phy
 siques ou spirituelles, et comprendre le lien entre l’évolution de 
 conscience de notre âme, de notre vie, et la santé, la maladie et la
  guérison.\nPrésentation du prochain voyage\n\nPour plus d'informati
 on, aller sur https://epanews.fr/events/conf-rence-et-film-healing
DTSTART;TZID=Europe/Paris:20120531T190000
DTEND;TZID=Europe/Paris:20120531T223000
CATEGORIES:75
LOCATION:Paris 75018 ( Le Baton de parole)
WEBSITE:http://www.aoraconscience.com
URL:http://www.aoraconscience.com
CONTACT:06 25 33 65 31
ORGANIZER;CN="Roger's":https://epanews.fr/profile/Rogers
ATTACH;FMTTYPE="image/jpeg":http://storage.ning.com/topology/rest/1.0/
 file/get/1662616953?profile=original
ATTENDEE;ROLE=REQ-PARTICIPANT;PARTSTAT=ACCEPTED;RSVP=TRUE;CN="Roger's"
 :https://epanews.fr/profile/Rogers
END:VEVENT
END:VCALENDAR
