BEGIN:VCALENDAR
PRODID:NingEventWidget-v1
VERSION:2.0
METHOD:PUBLISH
BEGIN:VTIMEZONE
TZID:Europe/Paris
X-LIC-LOCATION:Europe/Paris
BEGIN:DAYLIGHT
TZOFFSETFROM:+0100
TZOFFSETTO:+0200
TZNAME:CEST
DTSTART:19700329T020000
RRULE:FREQ=YEARLY;BYMONTH=3;BYDAY=-1SU
END:DAYLIGHT
BEGIN:STANDARD
TZOFFSETFROM:+0200
TZOFFSETTO:+0100
TZNAME:CET
DTSTART:19701025T030000
RRULE:FREQ=YEARLY;BYMONTH=10;BYDAY=-1SU
END:STANDARD
END:VTIMEZONE
BEGIN:VEVENT
UID:2485226:Event:2070100
DTSTAMP:20260426T060253Z
SUMMARY:Conférence et démonstration de la thérapie Bemer
DESCRIPTION:Par Genevieve Beltra, certifiée matériel Bemer.  Bemer e
 st une thérapie complète qui agit sur l’ensemble des mécanismes d
 u corps. Agit sur la microcirculation. Thérapie complémentaire. Sout
 ient la maladie. Pour ceux qui souhaitent essayer, Geneviève vous pro
 posera une démonstration.  PAF = 15 €  Plus d'infos :   http://beme
 rgenevievebeltra.blogspot.fr/2014/09/genevieve-beltra-presente-bemer.h
 tml?spref=fb\n\nPour plus d'information, aller sur https://epanews.fr/
 events/conf-rence-et-d-monstration-de-la-th-rapie-bemer
DTSTART;TZID=Europe/Paris:20141030T190000
DTEND;TZID=Europe/Paris:20141030T210000
CATEGORIES:13
LOCATION:Espace Ki-Zen
WEBSITE:
URL:
CONTACT:
ORGANIZER;CN="Espace Ki-Zen":https://epanews.fr/profile/EspaceKiZen
ATTACH;FMTTYPE="image/jpeg":http://storage.ning.com/topology/rest/1.0/
 file/get/1663226524?profile=original
ATTENDEE;ROLE=REQ-PARTICIPANT;PARTSTAT=ACCEPTED;RSVP=TRUE;CN="Espace K
 i-Zen":https://epanews.fr/profile/EspaceKiZen
END:VEVENT
END:VCALENDAR
