BEGIN:VCALENDAR
PRODID:NingEventWidget-v1
VERSION:2.0
METHOD:PUBLISH
BEGIN:VTIMEZONE
TZID:Europe/Paris
X-LIC-LOCATION:Europe/Paris
BEGIN:DAYLIGHT
TZOFFSETFROM:+0100
TZOFFSETTO:+0200
TZNAME:CEST
DTSTART:19700329T020000
RRULE:FREQ=YEARLY;BYMONTH=3;BYDAY=-1SU
END:DAYLIGHT
BEGIN:STANDARD
TZOFFSETFROM:+0200
TZOFFSETTO:+0100
TZNAME:CET
DTSTART:19701025T030000
RRULE:FREQ=YEARLY;BYMONTH=10;BYDAY=-1SU
END:STANDARD
END:VTIMEZONE
BEGIN:VEVENT
UID:2485226:Event:632093
DTSTAMP:20260424T020215Z
SUMMARY:Conférence / \"Anges: Entre mythe & réalité\"
DESCRIPTION: \nConférence donnée par Valériane Bernard qui ense
 igne la spiritualité et organise des séminaires depuis 20 ans dans
  plusieurs pays du monde.\n\nPour plus d'information, aller sur https:
 //epanews.fr/events/conf-rence-estime-respect-de-soi-comment-les-const
 ruire-1
DTSTART;TZID=Europe/Paris:20120116T193000
DTEND;TZID=Europe/Paris:20120116T203000
CATEGORIES:suisse
LOCATION:Genève / Centre de l'Espérance / Salle du Léman
WEBSITE:http://centre-esperance.ch/pages%20photos/planquartier.htm
URL:http://centre-esperance.ch/pages%20photos/planquartier.htm
CONTACT:0041 76 325 11 08
ORGANIZER:Centre de Raja Yoga & méditation
ATTACH;FMTTYPE="image/jpeg":http://storage.ning.com/topology/rest/1.0/
 file/get/1662516184?profile=original
ATTENDEE;ROLE=REQ-PARTICIPANT;PARTSTAT=ACCEPTED;RSVP=TRUE;CN="Nicolas 
 Crettex":https://epanews.fr/profile/NicolasCrettex
ATTENDEE;ROLE=REQ-PARTICIPANT;PARTSTAT=TENTATIVE;RSVP=TRUE;CN=Maimone:
 https://epanews.fr/profile/Maimone
END:VEVENT
END:VCALENDAR
