BEGIN:VCALENDAR
PRODID:NingEventWidget-v1
VERSION:2.0
METHOD:PUBLISH
BEGIN:VTIMEZONE
TZID:Europe/Paris
X-LIC-LOCATION:Europe/Paris
BEGIN:DAYLIGHT
TZOFFSETFROM:+0100
TZOFFSETTO:+0200
TZNAME:CEST
DTSTART:19700329T020000
RRULE:FREQ=YEARLY;BYMONTH=3;BYDAY=-1SU
END:DAYLIGHT
BEGIN:STANDARD
TZOFFSETFROM:+0200
TZOFFSETTO:+0100
TZNAME:CET
DTSTART:19701025T030000
RRULE:FREQ=YEARLY;BYMONTH=10;BYDAY=-1SU
END:STANDARD
END:VTIMEZONE
BEGIN:VEVENT
UID:2485226:Event:569350
DTSTAMP:20260423T043237Z
SUMMARY:Conférence / \"Esprit & matière : la rencontre de 2 énergie
 s\"
DESCRIPTION:Depuis le Sommet de la Terre en 1992 à Rio de Janeiro, Ja
 yanti Kirpalani a participé à de nombreuses conférences sur l’env
 ironnement. Elle met en avant la dimension spirituelle, fondée sur de
 s principes essentiels :\n1) le respect pour toutes les formes de vie.
 2) L’influence de nos pensées sur notre notre mode de vie et le mon
 de qui nous entoure, la nature.3) Trois approches favorisent le dével
 oppement durable :a) le soib) les relationsc) la communautré humaine.
  Autres lieux où sera donnée cette même conférence : Toulon (19.
 11.2011 à 17h30) :Salle Mozart / Boulevard du Maréchal LeclercInfos 
 : 04 94 91 27 56\n \nMarseille (20.11.2011 à 16h00) :Théâtre de l
 'Oeuvre / 1, rue Mission de FranceInfos : 04 91 95 65 49\n \nConfér
 ences précédées d'un concert de Sarod (http://fr.wikipedia.org/wiki
 /Sarod)\n \nENTRÉE LIBRE \n \n\nPour plus d'information, aller sur
  https://epanews.fr/events/conf-rence-esprit-mati-re-la-rencontre-de-2
 -l-ments-1
DTSTART;TZID=Europe/Paris:20111121T190000
DTEND;TZID=Europe/Paris:20111121T203000
CATEGORIES:84
LOCATION:Avignon
WEBSITE:http://www.avignon.fr/fr/pratique/biblio/jlbA.php
URL:http://www.avignon.fr/fr/pratique/biblio/jlbA.php
CONTACT:04 90 32 36 84
ORGANIZER:Centre de Raja Yoga & méditation
ATTACH;FMTTYPE="image/jpeg":http://storage.ning.com/topology/rest/1.0/
 file/get/1662477196?profile=original
ATTENDEE;ROLE=REQ-PARTICIPANT;PARTSTAT=ACCEPTED;RSVP=TRUE;CN="Nicolas 
 Crettex":https://epanews.fr/profile/NicolasCrettex
END:VEVENT
END:VCALENDAR
