BEGIN:VCALENDAR
PRODID:NingEventWidget-v1
VERSION:2.0
METHOD:PUBLISH
BEGIN:VTIMEZONE
TZID:Europe/Paris
X-LIC-LOCATION:Europe/Paris
BEGIN:DAYLIGHT
TZOFFSETFROM:+0100
TZOFFSETTO:+0200
TZNAME:CEST
DTSTART:19700329T020000
RRULE:FREQ=YEARLY;BYMONTH=3;BYDAY=-1SU
END:DAYLIGHT
BEGIN:STANDARD
TZOFFSETFROM:+0200
TZOFFSETTO:+0100
TZNAME:CET
DTSTART:19701025T030000
RRULE:FREQ=YEARLY;BYMONTH=10;BYDAY=-1SU
END:STANDARD
END:VTIMEZONE
BEGIN:VEVENT
UID:2485226:Event:1717594
DTSTAMP:20260421T070758Z
SUMMARY:Conférence '' entrez en résonance''
DESCRIPTION:Frédéric Theismann est diplômé de l’UCL Mons-Belgiqu
 e, Master en SciencesEconomiques Appliquées. Il a plus de 20 ans d’
 expérience dans divers postes àresponsabilité (finance & IT), au se
 in d'entreprises internationales pour lesquelles il y avoyagé tant en
  Europe qu’aux Etats-Unis. Il est formateur et coach, spécialisé s
 ur lesujet des relations. Il accompagne des personnes en difficultés 
 ou en questionnement,tant sur le plan privé que professionnel. Il int
 ervient également en centres pénitentiairespour du coaching et y ens
 eigne la méditation qu’il pratique depuis plus de 15 ans....\nhttp:
 //essensielle.lu/?page_id=531\n\nPour plus d'information, aller sur ht
 tps://epanews.fr/events/conf-rence-entrez-en-r-sonance
DTSTART;TZID=Europe/Paris:20140211T191500
DTEND;TZID=Europe/Paris:20140211T210000
CATEGORIES:57
LOCATION:WICKRANGE
WEBSITE:
URL:
CONTACT:00352 661 26 02 07
ORGANIZER;CN=essensielle:https://epanews.fr/profile/essensielle
ATTACH;FMTTYPE="image/jpeg":
ATTENDEE;ROLE=REQ-PARTICIPANT;PARTSTAT=ACCEPTED;RSVP=TRUE;CN=essensiel
 le:https://epanews.fr/profile/essensielle
ATTENDEE;ROLE=REQ-PARTICIPANT;PARTSTAT=TENTATIVE;RSVP=TRUE;CN=poupous:
 https://epanews.fr/profile/poupous
END:VEVENT
END:VCALENDAR
