BEGIN:VCALENDAR
PRODID:NingEventWidget-v1
VERSION:2.0
METHOD:PUBLISH
BEGIN:VTIMEZONE
TZID:Europe/Paris
X-LIC-LOCATION:Europe/Paris
BEGIN:DAYLIGHT
TZOFFSETFROM:+0100
TZOFFSETTO:+0200
TZNAME:CEST
DTSTART:19700329T020000
RRULE:FREQ=YEARLY;BYMONTH=3;BYDAY=-1SU
END:DAYLIGHT
BEGIN:STANDARD
TZOFFSETFROM:+0200
TZOFFSETTO:+0100
TZNAME:CET
DTSTART:19701025T030000
RRULE:FREQ=YEARLY;BYMONTH=10;BYDAY=-1SU
END:STANDARD
END:VTIMEZONE
BEGIN:VEVENT
UID:2485226:Event:2714836
DTSTAMP:20260423T014123Z
SUMMARY:Conférence du Dr Catherine Gueguen
DESCRIPTION:Conférence du Dr Catherine Gueguen le 21 Septembre 2016 
 à Paris\nEn ce 21 septembre, journée internationale de la Paix, c'es
 t avec enthousiasme que je vous annonce que le Dr Catherine Gueguen (p
 édiatre et auteur du livre : \"Pour une enfance heureuse\") donnera c
 e soir à Paris une conférence sur le thème \"La Paix, ça s'apprend
  dès le plus jeune âge : l'apport des neurosciences affectives et de
  la CNV dans l'éducation\".\nHoraire : de 20h à 22h30 Accueil sur pl
 ace à partir de 19h30 (sans inscription à l'avance)  Participation a
 ux frais de la salle : 12 € (8 € pour les personnes en recherche d
 'emploi  et/ou soucis de budget).\n\nLien :\nwww.cnvformations.fr/inde
 x.php?m=3\n\nPour plus d'information, aller sur https://epanews.fr/eve
 nts/conf-rence-du-dr-catherine-gueguen
DTSTART;TZID=Europe/Paris:20160921T200000
DTEND;TZID=Europe/Paris:20160921T223000
CATEGORIES:75-, paris
LOCATION:CISP Maurice Ravel (Centre International de Séjour) ...
WEBSITE:
URL:
CONTACT:
ORGANIZER:Conferences CNV
ATTACH;FMTTYPE="image/jpeg":http://storage.ning.com/topology/rest/1.0/
 file/get/1663606739?profile=original
ATTENDEE;ROLE=REQ-PARTICIPANT;PARTSTAT=ACCEPTED;RSVP=TRUE;CN=Albatros:
 https://epanews.fr/profile/Albatros
END:VEVENT
END:VCALENDAR
