BEGIN:VCALENDAR
PRODID:NingEventWidget-v1
VERSION:2.0
METHOD:PUBLISH
BEGIN:VTIMEZONE
TZID:Europe/Paris
X-LIC-LOCATION:Europe/Paris
BEGIN:DAYLIGHT
TZOFFSETFROM:+0100
TZOFFSETTO:+0200
TZNAME:CEST
DTSTART:19700329T020000
RRULE:FREQ=YEARLY;BYMONTH=3;BYDAY=-1SU
END:DAYLIGHT
BEGIN:STANDARD
TZOFFSETFROM:+0200
TZOFFSETTO:+0100
TZNAME:CET
DTSTART:19701025T030000
RRULE:FREQ=YEARLY;BYMONTH=10;BYDAY=-1SU
END:STANDARD
END:VTIMEZONE
BEGIN:VEVENT
UID:2485226:Event:1894985
DTSTAMP:20260420T193151Z
SUMMARY:Conférence du 11mai : Vers l'éveil de la conscience Maria lo
 ire
DESCRIPTION:Vers l'éveil de la conscience : le parcours de Maria Loir
 e pour transformer une vie de souffrance en une vie de bonheur, les \"
 outils\" utilisés et surtout leur mode d'emploi.\nEn seconde de parti
 e contacts médiumniques avec Claire, Laurence et Maggy pour recvoir l
 es messages de vos guides ou de vos disparus.\n\nPour plus d'informati
 on, aller sur https://epanews.fr/events/conf-rence-du-11mai-vers-l-vei
 l-de-la-conscience-maria-loire
DTSTART;TZID=Europe/Paris:20140511T143000
DTEND;TZID=Europe/Paris:20140511T180000
CATEGORIES:72, 53, 61, 28
LOCATION:LE MANS Novotel Bords d'Huisne
WEBSITE:
URL:
CONTACT:02 28 01 88 05 /06 07 41 81 49
ORGANIZER;CN="MARIA LOIRE":https://epanews.fr/profile/MARIALOIRE
ATTACH;FMTTYPE="image/jpeg":http://storage.ning.com/topology/rest/1.0/
 file/get/1663126331?profile=original
ATTENDEE;ROLE=REQ-PARTICIPANT;PARTSTAT=ACCEPTED;RSVP=TRUE;CN="MARIA LO
 IRE":https://epanews.fr/profile/MARIALOIRE
END:VEVENT
END:VCALENDAR
