BEGIN:VCALENDAR
PRODID:NingEventWidget-v1
VERSION:2.0
METHOD:PUBLISH
BEGIN:VTIMEZONE
TZID:Europe/Paris
X-LIC-LOCATION:Europe/Paris
BEGIN:DAYLIGHT
TZOFFSETFROM:+0100
TZOFFSETTO:+0200
TZNAME:CEST
DTSTART:19700329T020000
RRULE:FREQ=YEARLY;BYMONTH=3;BYDAY=-1SU
END:DAYLIGHT
BEGIN:STANDARD
TZOFFSETFROM:+0200
TZOFFSETTO:+0100
TZNAME:CET
DTSTART:19701025T030000
RRULE:FREQ=YEARLY;BYMONTH=10;BYDAY=-1SU
END:STANDARD
END:VTIMEZONE
BEGIN:VEVENT
UID:2485226:Event:642840
DTSTAMP:20260423T194204Z
SUMMARY:confÃ©rence \"dialogue avec l'Ãªtre intÃ©rieur\"
DESCRIPTION:Face aux dÃ©fis de cette annÃ©e riche en opportunitÃ©s de 
 changement, il vous est proposÃ© de rentrer en contact avec votre Ãªtr
 e intÃ©rieur Ã  travers quatre expÃ©riences mÃ©ditatives guidÃ©es par 
 le confÃ©rencier, afin de ressentir votre existence sur le plan vital,
  Ã©motionnel, mental et causal.\nUne Ã©coute consciente de ces diffÃ©r
 ents plans permet Ã  chacun de conscientiser ses besoins, d'y trouver 
 soi-mÃªme des rÃ©ponses, d'Ã©tablir un Ã©quilibre naturel entre l'espr
 it et la matiÃ¨re.\nChacune de ces quatres expÃ©riences sera suivie d'
 un temps de partage possible et de rÃ©ponse aux questions.\n\nÂ \nl'in
 tervenant:Philippe Henry,Â 50 ans, musicien professionnel, a dÃ©couver
 t Ã  l'Ã¢ge de 27 ans sa capacitÃ© naturelle Ã  ressentir les diffÃ©re
 ntes Ã©nergies rayonnant autour du corps humain. Depuis 1996, il parta
 ge ses connaissances dans le cadre de l'atelier d'harmonisation Ã©nerg
 Ã©tique qu'il anime au profit de l'association \"l'Art pour Mieux-Etre
 \".\nCette acticitÃ© prend la forme d'\nÂ un accompagnement personnali
 sÃ© au dÃ©veloppement personnel rÃ©pondant Ã  plusieurs types de besoi
 ns: formation pratique au magnÃ©tisme (bilan Ã©nergÃ©tique, rÃ©Ã©quili
 brage par les mains et le cristal), pratique de la visualisation pour 
 apprendre Ã  se nourrir sur tous les plans, aide ponctuelle.\nCes acti
 vitÃ©s fonctionnent chaque vendredi Ã  Montpellier au centre 665, sous
  forme d'ateliers de groupe, de sÃ©ances individuelles et d'entretiens
 .\nPratique issue de la tradition essÃ©nienne, l'harmonisation Ã©nergÃ
 ©tique s'appuie sur les travaux de Barbara Ann Brennan et d'Anne Givau
 dan, sur la \"lecture psychique\", et sur la lithothÃ©rapie (rÃ©Ã©quil
 ibrage par le cristal de roche).\nÂ \nrenseignements / rÃ©servations: 
 04 67 59 70 63 / 06 21 76 59 81Â Â  PAF: 5 â‚¬\n\nPour plus d'informat
 ion, aller sur https://epanews.fr/events/conf-rence-dialogue-avec-l-tr
 e-int-rieur
DTSTART;TZID=Europe/Paris:20120113T203000
DTEND;TZID=Europe/Paris:20120113T223000
CATEGORIES:34
LOCATION:Montpellier
WEBSITE:
URL:
CONTACT:04 67 59 70 63 / 06 21 76 59 81
ORGANIZER;CN=Henry:https://epanews.fr/profile/PhilippeHENRY
ATTACH;FMTTYPE="image/jpeg":http://storage.ning.com/topology/rest/1.0/
 file/get/1662525666?profile=original
ATTENDEE;ROLE=REQ-PARTICIPANT;PARTSTAT=ACCEPTED;RSVP=TRUE;CN=Henry:htt
 ps://epanews.fr/profile/PhilippeHENRY
END:VEVENT
END:VCALENDAR
