BEGIN:VCALENDAR
PRODID:NingEventWidget-v1
VERSION:2.0
METHOD:PUBLISH
BEGIN:VTIMEZONE
TZID:Europe/Paris
X-LIC-LOCATION:Europe/Paris
BEGIN:DAYLIGHT
TZOFFSETFROM:+0100
TZOFFSETTO:+0200
TZNAME:CEST
DTSTART:19700329T020000
RRULE:FREQ=YEARLY;BYMONTH=3;BYDAY=-1SU
END:DAYLIGHT
BEGIN:STANDARD
TZOFFSETFROM:+0200
TZOFFSETTO:+0100
TZNAME:CET
DTSTART:19701025T030000
RRULE:FREQ=YEARLY;BYMONTH=10;BYDAY=-1SU
END:STANDARD
END:VTIMEZONE
BEGIN:VEVENT
UID:2485226:Event:1294422
DTSTAMP:20260421T100639Z
SUMMARY:Conférence de Patrick Giani le 3 mai à Aubagne
DESCRIPTION:\"L'évolution de la Conscience et la Nouvelle Terre\"  Pe
 ndant que l'ancien monde tente de sortir de la crise et de soigner ses
  nombreux maux, une minorité grandissante d'êtres humains en quête 
 de bonheur et de vérité est en train d'ensemencer la Nouvelle Terre.
  Une révolution silencieuse qui met en pratique la pensée positive, 
 la loi de l'attraction, l'ouverture du cœur, l'abandon confiant en la
  Vie et la Gratitude.\nAu terme de cette conférence Patrick Giani dé
 dicacera ses livres \"Le bonheur est à l'intérieur\" et \"Les douze 
 vies d'Anatole\".\n\nPour plus d'information, aller sur https://epanew
 s.fr/events/conf-rence-de-patrick-giani-le-3-mai-aubagne
DTSTART;TZID=Europe/Paris:20130503T170000
DTEND;TZID=Europe/Paris:20130503T190000
CATEGORIES:13
LOCATION:Centre de Psychologie Bien-être et Santé
WEBSITE:http://www.annuaire-bien-etre.info/astro-psy/index.php?num_pag
 e=1
URL:http://www.annuaire-bien-etre.info/astro-psy/index.php?num_page=1
CONTACT:06 17 21 36 95
ORGANIZER:Véronique Sorrentino
ATTACH;FMTTYPE="image/jpeg":http://storage.ning.com/topology/rest/1.0/
 file/get/1662806129?profile=original
ATTENDEE;ROLE=REQ-PARTICIPANT;PARTSTAT=ACCEPTED;RSVP=TRUE;CN="DANIEL  
  Marseille":https://epanews.fr/profile/DANIEL297
ATTENDEE;ROLE=REQ-PARTICIPANT;PARTSTAT=ACCEPTED;RSVP=TRUE;CN="Patrick 
 Giani":https://epanews.fr/profile/PatrickGiani
ATTENDEE;ROLE=REQ-PARTICIPANT;PARTSTAT=ACCEPTED;RSVP=TRUE;CN="Véroniq
 ue SORRENTINO":https://epanews.fr/profile/ConnaissanceetSavoir
END:VEVENT
END:VCALENDAR
