BEGIN:VCALENDAR
PRODID:NingEventWidget-v1
VERSION:2.0
METHOD:PUBLISH
BEGIN:VTIMEZONE
TZID:Europe/Paris
X-LIC-LOCATION:Europe/Paris
BEGIN:DAYLIGHT
TZOFFSETFROM:+0100
TZOFFSETTO:+0200
TZNAME:CEST
DTSTART:19700329T020000
RRULE:FREQ=YEARLY;BYMONTH=3;BYDAY=-1SU
END:DAYLIGHT
BEGIN:STANDARD
TZOFFSETFROM:+0200
TZOFFSETTO:+0100
TZNAME:CET
DTSTART:19701025T030000
RRULE:FREQ=YEARLY;BYMONTH=10;BYDAY=-1SU
END:STANDARD
END:VTIMEZONE
BEGIN:VEVENT
UID:2485226:Event:1472082
DTSTAMP:20260420T040141Z
SUMMARY:Conférence de Patrick Giani le 14 septembre à NICE
DESCRIPTION:\"L'évolution de la Conscience et la Nouvelle Terre\"Pend
 ant que l'ancien monde tente de sortir de la crise et de soigner ses n
 ombreux maux, une minorité grandissante d'êtres humains en quête de
  bonheur et de vérité est en train d'ensemencer la Nouvelle Terre. U
 ne révolution silencieuse qui met en pratique la pensée positive, la
  loi de l'attraction, l'ouverture du cœur, l'abandon confiant en la V
 ie et la Gratitude.Au terme de cette conférence Patrick Giani dédica
 cera ses livres \"Le bonheur est à l'intérieur\" et \"Les douze vies
  d'Anatole\" et son nouveau \"Semences pour la Nouvelle Terre\".\n\nPo
 ur plus d'information, aller sur https://epanews.fr/events/conf-rence-
 de-patrick-giani-le-14-septembre-nice
DTSTART;TZID=Europe/Paris:20130914T160000
DTEND;TZID=Europe/Paris:20130914T180000
CATEGORIES:06
LOCATION:NICE
WEBSITE:http://associationmaat.blogspot.fr
URL:http://associationmaat.blogspot.fr
CONTACT:06 60 47 54 41
ORGANIZER:Nadège
ATTACH;FMTTYPE="image/jpeg":http://storage.ning.com/topology/rest/1.0/
 file/get/1662898931?profile=original
ATTENDEE;ROLE=REQ-PARTICIPANT;PARTSTAT=ACCEPTED;RSVP=TRUE;CN="Nicole K
 retchmann":https://epanews.fr/profile/NicoleKretchmann
ATTENDEE;ROLE=REQ-PARTICIPANT;PARTSTAT=ACCEPTED;RSVP=TRUE;CN="Patrick 
 Giani":https://epanews.fr/profile/PatrickGiani
END:VEVENT
END:VCALENDAR
