BEGIN:VCALENDAR
PRODID:NingEventWidget-v1
VERSION:2.0
METHOD:PUBLISH
BEGIN:VTIMEZONE
TZID:Europe/Paris
X-LIC-LOCATION:Europe/Paris
BEGIN:DAYLIGHT
TZOFFSETFROM:+0100
TZOFFSETTO:+0200
TZNAME:CEST
DTSTART:19700329T020000
RRULE:FREQ=YEARLY;BYMONTH=3;BYDAY=-1SU
END:DAYLIGHT
BEGIN:STANDARD
TZOFFSETFROM:+0200
TZOFFSETTO:+0100
TZNAME:CET
DTSTART:19701025T030000
RRULE:FREQ=YEARLY;BYMONTH=10;BYDAY=-1SU
END:STANDARD
END:VTIMEZONE
BEGIN:VEVENT
UID:2485226:Event:704738
DTSTAMP:20260422T162650Z
SUMMARY:ConfÃ©rence de Marie Lise LABONTE \"DerriÃ¨re le rideau\"
DESCRIPTION:Un point de rupture bouleverse parfois notre existence : m
 aladie, handicap, deuil, agression, perte dâ€™emploi, catastrophe natu
 relle.Marie Lise LabontÃ©, qui a elle-mÃªme Ã©tÃ© confrontÃ©e Ã  de te
 rribles Ã©preuves, propose dâ€™utiliser ces points de rupture pour tra
 nsformer son existence.PsychothÃ©rapeute Jungienne trÃ¨s connue au QuÃ
 ©bec,elle a crÃ©Ã© au dÃ©cours d'une maladie grave la \"MÃ©thode de Li
 bÃ©ration des Cuirasses\" ,thÃ©rapie psycho corporelle \"approche glob
 ale du corps, approche globale de l'Ãªtre\".Pendant des annÃ©es elle a
  travaillÃ© auprÃ¨s de personnes malades et formÃ© des intervenants da
 ns la pratique de son approche psychosomatique qu'elle Ã©voque dans se
 s ouvrages \"Se guÃ©rir autrement c'est possible\", \"Au coeur de notr
 e corps\", \"Mouvements d'anti gymnastique\" , \"Le dÃ©clic\".ConfÃ©re
 nciÃ¨re reconnue, elle donne des sÃ©minaires et des confÃ©rences Ã  tr
 avers le mondeElle Ã©voquera l'Ã©preuve qu'elle a traversÃ© avec le me
 urtre de son Ã©poux qu'elle a vÃ©cu \"DerriÃ¨re le rideau...\", les qu
 estionnements, les peurs, les sÃ©quelles traumatiques, les prÃ©monitio
 ns, les cauchemars et les rÃªves rÃ©parateurs, les relations amoureuse
 s, les mÃ©thodes de ressourcement (imagination active, exploration de 
 mÃ©moires intra utÃ©rines, mÃ©ditation...)Loin de se focaliser sur le 
 deuil, elle nous livre une rÃ©flexion sur la vie et son mystÃ¨re qui r
 Ã©confortera les personnes confrontÃ©es Ã  une Ã©preuve importante....
  RÃ©sas et vente des places Ã  la librairie au 05 56 51 38 12\n\nPour 
 plus d'information, aller sur https://epanews.fr/events/conf-rence-de-
 marie-lise-labonte-derri-re-le-rideau
DTSTART;TZID=Europe/Paris:20120315T201500
DTEND;TZID=Europe/Paris:20120315T230000
CATEGORIES:33, 24, 64, 40, 17
LOCATION:bordeaux
WEBSITE:http://www.librairie-pegase.fr
URL:http://www.librairie-pegase.fr
CONTACT:05 56 51 38 12
ORGANIZER;CN="Librairie PEGASE":https://epanews.fr/profile/LibrairiePE
 GASE
ATTACH;FMTTYPE="image/jpeg":http://storage.ning.com/topology/rest/1.0/
 file/get/1662559124?profile=original
ATTENDEE;ROLE=REQ-PARTICIPANT;PARTSTAT=ACCEPTED;RSVP=TRUE;CN="Librairi
 e PEGASE":https://epanews.fr/profile/LibrairiePEGASE
END:VEVENT
END:VCALENDAR
