BEGIN:VCALENDAR
PRODID:NingEventWidget-v1
VERSION:2.0
METHOD:PUBLISH
BEGIN:VTIMEZONE
TZID:Europe/Paris
X-LIC-LOCATION:Europe/Paris
BEGIN:DAYLIGHT
TZOFFSETFROM:+0100
TZOFFSETTO:+0200
TZNAME:CEST
DTSTART:19700329T020000
RRULE:FREQ=YEARLY;BYMONTH=3;BYDAY=-1SU
END:DAYLIGHT
BEGIN:STANDARD
TZOFFSETFROM:+0200
TZOFFSETTO:+0100
TZNAME:CET
DTSTART:19701025T030000
RRULE:FREQ=YEARLY;BYMONTH=10;BYDAY=-1SU
END:STANDARD
END:VTIMEZONE
BEGIN:VEVENT
UID:2485226:Event:490525
DTSTAMP:20260423T013417Z
SUMMARY:Conférence de Lama Lena à Lyon
DESCRIPTION:LAMA LENA YESHE KAYTUP,\ndétentrice de la lignée du Vén
 érable Wangdor Rinpoche\ndonnera une conférence le 28 septembre à L
 yon\n\nInscription requise par internet à info@tatatao.org\nPlus d’
 informations ci-dessous et sur www.tatatao.org\nConformément à la co
 utume, ces enseignements sont donnés gratuitement. Vous êtes invité
 s à les soutenir par vos dons.\n \n-----\n\nLES CHANTS DES MAHASIDDH
 AS\n« Les Chants des Mahasiddhas » sont une série d'enseignements d
 u Mahamudra de la lignée Kagyü sur la perception directe de l'espri
 t. Ce sont les chants de réalisation des grands Mahasiddhas, l'expres
 sion poétique de ce qui ne peut être compris par les mots ou par la 
 pensée.\n\nPour plus d'information, aller sur https://epanews.fr/even
 ts/conf-rence-de-lama-lena-lyon
DTSTART;TZID=Europe/Paris:20110928T190000
DTEND;TZID=Europe/Paris:20110928T210000
CATEGORIES:69
LOCATION:Lyon
WEBSITE:http://www.escale-lyonnaise.org/
URL:http://www.escale-lyonnaise.org/
CONTACT:
ORGANIZER:Tatatao France
ATTACH;FMTTYPE="image/jpeg":http://storage.ning.com/topology/rest/1.0/
 file/get/1662454283?profile=original
ATTENDEE;ROLE=REQ-PARTICIPANT;PARTSTAT=ACCEPTED;RSVP=TRUE;CN=hiwooxs:h
 ttps://epanews.fr/profile/hiwooxs
END:VEVENT
END:VCALENDAR
