BEGIN:VCALENDAR
PRODID:NingEventWidget-v1
VERSION:2.0
METHOD:PUBLISH
BEGIN:VTIMEZONE
TZID:Europe/Paris
X-LIC-LOCATION:Europe/Paris
BEGIN:DAYLIGHT
TZOFFSETFROM:+0100
TZOFFSETTO:+0200
TZNAME:CEST
DTSTART:19700329T020000
RRULE:FREQ=YEARLY;BYMONTH=3;BYDAY=-1SU
END:DAYLIGHT
BEGIN:STANDARD
TZOFFSETFROM:+0200
TZOFFSETTO:+0100
TZNAME:CET
DTSTART:19701025T030000
RRULE:FREQ=YEARLY;BYMONTH=10;BYDAY=-1SU
END:STANDARD
END:VTIMEZONE
BEGIN:VEVENT
UID:2485226:Event:674151
DTSTAMP:20260422T081217Z
SUMMARY:ConfÃ©rence : de l'oubli de soi au chemin pour se retrouver
DESCRIPTION:Thierry Gaubert est directeur du Centre dâ€™Hypnose et de 
 ThÃ©rapie BrÃ¨ve, fondateur du Centre de Gestions des Emotions, confÃ©
 rencier etÂ auteur du livre : Â« L'assujetti ou l'oubli de soiÂ».Â \nÂ
  \nLorsque dire Oui est source de dÃ©sagrÃ©ment, de sacrifice ou mÃªme
  de dÃ©ni de soi, alors lâ€™Ã©quilibre du respect de soi fait dÃ©faut.
 Â  La confÃ©rence que ThierryÂ vous propose, vous permettra de compren
 dre la source de cet oubli de soi afin de se libÃ©rer de son emprise i
 nvisible et corrosive.\nÂ \nÂ Sachez dire ce que vous pensez, osez vou
 s affranchir des diktats que vous vous imposez\net dÃ©couvrez enfin le
  sens dâ€™une vie Ã  votre vÃ©ritable image.Â \nÂ \nÂ Ainsi nous tente
 rons de rÃ©pondre aux questions:\nÂ¨Â Quâ€™est-ce qui nous pousse Ã  a
 gir contre notre propre intÃ©rÃªt?\nÂ¨Â Pourquoi nos sociÃ©tÃ©s modern
 es favorisent-elles lâ€™existence de lâ€™assujettissementÂ ?\nÂ¨Â Quel
 s sont les mots justes pour dire vraiÂ ?\nÂ¨Â La colÃ¨re et le conflit
  sont-ilsÂ  nÃ©cessairesÂ ?\nÂ¨Â Comment devenir un Ãªtre libre dâ€™Ãª
 tre et non plus un Ãªtre obligÃ© de faireÂ ?\nÂ¨Â Que signifie Â«Â Don
 ner un sens Ã  sa vie ?Â \nCout 10â‚¬\nrÃ©servation conseillÃ©e 04 784
 2 87 27\nÂ \nÂ \nÂ \n\nPour plus d'information, aller sur https://epan
 ews.fr/events/conf-rence-de-l-oubli-de-soi-au-chemin-pour-se-retrouver
DTSTART;TZID=Europe/Paris:20120316T200000
DTEND;TZID=Europe/Paris:20120316T230000
CATEGORIES:69
LOCATION:lyon
WEBSITE:http://www.symbolescence.fr/conference/?Conferences-lyon/Thier
 ry-Gaubert
URL:http://www.symbolescence.fr/conference/?Conferences-lyon/Thierry-G
 aubert
CONTACT:04 78 42 87 27
ORGANIZER;CN=ClÃ©mence:https://epanews.fr/profile/Clemence
ATTACH;FMTTYPE="image/jpeg":http://storage.ning.com/topology/rest/1.0/
 file/get/1662547456?profile=original
ATTENDEE;ROLE=REQ-PARTICIPANT;PARTSTAT=ACCEPTED;RSVP=TRUE;CN=ClÃ©mence
 :https://epanews.fr/profile/Clemence
END:VEVENT
END:VCALENDAR
