BEGIN:VCALENDAR
PRODID:NingEventWidget-v1
VERSION:2.0
METHOD:PUBLISH
BEGIN:VTIMEZONE
TZID:Europe/Paris
X-LIC-LOCATION:Europe/Paris
BEGIN:DAYLIGHT
TZOFFSETFROM:+0100
TZOFFSETTO:+0200
TZNAME:CEST
DTSTART:19700329T020000
RRULE:FREQ=YEARLY;BYMONTH=3;BYDAY=-1SU
END:DAYLIGHT
BEGIN:STANDARD
TZOFFSETFROM:+0200
TZOFFSETTO:+0100
TZNAME:CET
DTSTART:19701025T030000
RRULE:FREQ=YEARLY;BYMONTH=10;BYDAY=-1SU
END:STANDARD
END:VTIMEZONE
BEGIN:VEVENT
UID:2485226:Event:1786734
DTSTAMP:20260423T014129Z
SUMMARY:Conférence de jean louis aramis
DESCRIPTION:l'auteur du livre \"j'ai traversé le mur de lumière\" ti
 ent une réunion/discussion et répondra à vos questions sur son livr
 e, son parcours, ses expériences et sur ses recherches en cours à l'
 espace kalashanti à digne les bains le  28 février 2014 à partir d
 e 20 h.\n\nPour plus d'information, aller sur https://epanews.fr/event
 s/conf-rence-de-jean-louis-aramis
DTSTART;TZID=Europe/Paris:20140228T200000
DTEND;TZID=Europe/Paris:20140228T230000
CATEGORIES:04
LOCATION:espace kalashanti
WEBSITE:http://www.kalashanti-ayurveda.fr/
URL:http://www.kalashanti-ayurveda.fr/
CONTACT:04 92 32 50 65
ORGANIZER;CN="jl.aramis":https://epanews.fr/profile/jlaramis
ATTACH;FMTTYPE="image/jpeg":http://storage.ning.com/topology/rest/1.0/
 file/get/1663064021?profile=original
ATTENDEE;ROLE=REQ-PARTICIPANT;PARTSTAT=ACCEPTED;RSVP=TRUE;CN="jl.arami
 s":https://epanews.fr/profile/jlaramis
END:VEVENT
END:VCALENDAR
