BEGIN:VCALENDAR
PRODID:NingEventWidget-v1
VERSION:2.0
METHOD:PUBLISH
BEGIN:VTIMEZONE
TZID:Europe/Paris
X-LIC-LOCATION:Europe/Paris
BEGIN:DAYLIGHT
TZOFFSETFROM:+0100
TZOFFSETTO:+0200
TZNAME:CEST
DTSTART:19700329T020000
RRULE:FREQ=YEARLY;BYMONTH=3;BYDAY=-1SU
END:DAYLIGHT
BEGIN:STANDARD
TZOFFSETFROM:+0200
TZOFFSETTO:+0100
TZNAME:CET
DTSTART:19701025T030000
RRULE:FREQ=YEARLY;BYMONTH=10;BYDAY=-1SU
END:STANDARD
END:VTIMEZONE
BEGIN:VEVENT
UID:2485226:Event:2109639
DTSTAMP:20260423T012102Z
SUMMARY:Conférence de Gregory Mutombo \"Le mandat d'incarnation : ret
 rouver et manifester sa raison d'être
DESCRIPTION:Invitation à la conférence de Grégory Mutombo sur le ma
 ndat d'incarnation...\nQu'est ce qu'un mandat d'incarnation? Tout le m
 onde en a-t-il un? comment le connaitre? Quand commence-t-il? Peut-on 
 avoir plusieurs mandats différents ou successifs? Comment savoir que 
 l'on est sur sa voie? Peut-on passer à coté de son mandat?\nGregory 
 abordera toutes les questions en y apportant toutes les réponses et l
 es clés concrètes, basées à la fois sur les réalités du quotidie
 n et l'évolution actuelle du niveau de conscience.\nNombre de places 
 limitées, réservation obligatoire. au  06.24.56.12.25\n\n\nPour plu
 s d'information, aller sur https://epanews.fr/events/conf-rence-de-gre
 gory-mutombo-le-mandat-d-incarnation-retrouver
DTSTART;TZID=Europe/Paris:20150114T200000
DTEND;TZID=Europe/Paris:20150114T220000
CATEGORIES:75
LOCATION:Centre Bios
WEBSITE:
URL:
CONTACT:06.24.56.12.25
ORGANIZER;CN="Samia AISSAOUI":https://epanews.fr/profile/SamiaAISSAOUI
ATTACH;FMTTYPE="image/jpeg":
ATTENDEE;ROLE=REQ-PARTICIPANT;PARTSTAT=ACCEPTED;RSVP=TRUE;CN="Samia AI
 SSAOUI":https://epanews.fr/profile/SamiaAISSAOUI
END:VEVENT
END:VCALENDAR
