BEGIN:VCALENDAR
PRODID:NingEventWidget-v1
VERSION:2.0
METHOD:PUBLISH
BEGIN:VTIMEZONE
TZID:Europe/Paris
X-LIC-LOCATION:Europe/Paris
BEGIN:DAYLIGHT
TZOFFSETFROM:+0100
TZOFFSETTO:+0200
TZNAME:CEST
DTSTART:19700329T020000
RRULE:FREQ=YEARLY;BYMONTH=3;BYDAY=-1SU
END:DAYLIGHT
BEGIN:STANDARD
TZOFFSETFROM:+0200
TZOFFSETTO:+0100
TZNAME:CET
DTSTART:19701025T030000
RRULE:FREQ=YEARLY;BYMONTH=10;BYDAY=-1SU
END:STANDARD
END:VTIMEZONE
BEGIN:VEVENT
UID:2485226:Event:2008868
DTSTAMP:20260426T062746Z
SUMMARY:Conférence de Gleb Dirzu sur nos facultés insoupçonnées
DESCRIPTION:Gleb Dirzu, hypnologue moldave et coach spécialiste inte
 rnational des peuples premiers et des sciences quantiques, sera à Par
 is pour nous présenter les derniers fruits de ses recherches. Après
  un moment de conférence, démonstration et questions-réponses, il n
 ous proposera un atelier pratique et vivenciel de techniques psycho-co
 rporelles destinées à nous libérer des schémas et des blocages pou
 r faire progresser l'accès à notre potentiel dans la Joie de chaque 
 instant !!\nparticipation : 12 euros\n\nPour plus d'information, aller
  sur https://epanews.fr/events/conf-rence-de-gleb-dirzu-sur-nos-facult
 -s-insoup-onn-es
DTSTART;TZID=Europe/Paris:20140926T180000
DTEND;TZID=Europe/Paris:20140926T210000
CATEGORIES:75
LOCATION:Paris
WEBSITE:http://www.espacebellechasse.com/
URL:http://www.espacebellechasse.com/
CONTACT:0613245947
ORGANIZER;CN="Krishna Faruq":https://epanews.fr/profile/KrishnaFaruq
ATTACH;FMTTYPE="image/jpeg":http://storage.ning.com/topology/rest/1.0/
 file/get/1663194571?profile=original
ATTENDEE;ROLE=REQ-PARTICIPANT;PARTSTAT=ACCEPTED;RSVP=TRUE;CN="Krishna 
 Faruq":https://epanews.fr/profile/KrishnaFaruq
END:VEVENT
END:VCALENDAR
