BEGIN:VCALENDAR
PRODID:NingEventWidget-v1
VERSION:2.0
METHOD:PUBLISH
BEGIN:VTIMEZONE
TZID:Europe/Paris
X-LIC-LOCATION:Europe/Paris
BEGIN:DAYLIGHT
TZOFFSETFROM:+0100
TZOFFSETTO:+0200
TZNAME:CEST
DTSTART:19700329T020000
RRULE:FREQ=YEARLY;BYMONTH=3;BYDAY=-1SU
END:DAYLIGHT
BEGIN:STANDARD
TZOFFSETFROM:+0200
TZOFFSETTO:+0100
TZNAME:CET
DTSTART:19701025T030000
RRULE:FREQ=YEARLY;BYMONTH=10;BYDAY=-1SU
END:STANDARD
END:VTIMEZONE
BEGIN:VEVENT
UID:2485226:Event:2749490
DTSTAMP:20260421T035216Z
SUMMARY:Conférence démonstration Nombrologie \", par Marie Ange
DESCRIPTION:Inscription obligatoire auprès de Source du Bonheur au 06
  77 16 31 11\n\n \n\nParticipation 15 €\n\n \n\nConférence animé
 e par Marie Ange Courtehoux qui expliquera les fondements de cette mé
 thode, agrémentés d'exemples.\n\nLes nombres sont un langage symboli
 que, la vérité profonde de chacun.\n\nAu fond de nous existe une pla
 ge de connaissance, de beauté, de perfection que nous pouvons atteind
 re en occultant notre mental et en laissant nos lèvres exprimer sans 
 réfléchir cette musique spontanée qui sort de nos profondeurs, et q
 ue sont les nombres.\n\nLa nombrologie contribue à une meilleure conn
 aissance de soi et fournit un précieux outil pour sortir des problèm
 es qui nous préoccupent.\n\nQuand il y a un choix à faire, une situa
 tion à comprendre et à dépasser.\n\nIl ne s'agit en aucun cas de di
 vination et de prédictions mais bien d'une méthode de développement
  personnel.\n\nLa nombrologie va nous permettre d'évoluer au mieux, d
 ans une certaine harmonie et alignement, sur notre chemin de vie.\n\n\
 nPour plus d'information, aller sur https://epanews.fr/events/conf-ren
 ce-d-monstration-nombrologie-par-marie-ange
DTSTART;TZID=Europe/Paris:20170110T190000
DTEND;TZID=Europe/Paris:20170110T203000
CATEGORIES:34
LOCATION:montpellier centre
WEBSITE:http://www.sourcedubonheur.fr
URL:http://www.sourcedubonheur.fr
CONTACT:0677163111
ORGANIZER;CN=sb34:https://epanews.fr/profile/sb34
ATTACH;FMTTYPE="image/jpeg":http://storage.ning.com/topology/rest/1.0/
 file/get/1663623718?profile=original
ATTENDEE;ROLE=REQ-PARTICIPANT;PARTSTAT=ACCEPTED;RSVP=TRUE;CN=sb34:http
 s://epanews.fr/profile/sb34
END:VEVENT
END:VCALENDAR
