BEGIN:VCALENDAR
PRODID:NingEventWidget-v1
VERSION:2.0
METHOD:PUBLISH
BEGIN:VTIMEZONE
TZID:Europe/Paris
X-LIC-LOCATION:Europe/Paris
BEGIN:DAYLIGHT
TZOFFSETFROM:+0100
TZOFFSETTO:+0200
TZNAME:CEST
DTSTART:19700329T020000
RRULE:FREQ=YEARLY;BYMONTH=3;BYDAY=-1SU
END:DAYLIGHT
BEGIN:STANDARD
TZOFFSETFROM:+0200
TZOFFSETTO:+0100
TZNAME:CET
DTSTART:19701025T030000
RRULE:FREQ=YEARLY;BYMONTH=10;BYDAY=-1SU
END:STANDARD
END:VTIMEZONE
BEGIN:VEVENT
UID:2485226:Event:2324312
DTSTAMP:20260422T193845Z
SUMMARY:ConfÃ©rence d'information sur la guÃ©rison par voie spirituell
 e
DESCRIPTION:La guÃ©rison par voie spirituelle, est-elle mÃ©dicalement 
 prouvable ?Un mÃ©decin prend position.Lausanne: Une confÃ©rence dâ€™in
 formation sur lâ€™aide et guÃ©rison par voie spirituelle selon lâ€™ens
 eignement de Bruno GrÃ¶ning aura lieu samedi, le 30 mai Ã  19h30 Ã Mai
 son du Peuple â€“ Place Chauderon 5 â€“ CH-1000 LausanneÂ Â M1 (arrÃªt
  Vigie)Cette manifestation fait partie dâ€™une sÃ©rie de confÃ©rences 
 internationales donnÃ©e par des mÃ©decins et thÃ©rapeutes du Groupe mÃ
 ©dico-scientifique spÃ©cialisÃ© (MWF) du Cercle des amis de Bruno GrÃ¶
 ning.Â Sont invitÃ©s tous ceux qui manifestent un intÃ©rÃªt pour ce su
 jet. Des personnes en quÃªte dâ€™aide ou de guÃ©rison sont aussi bien 
 la bienvenue, comme des mÃ©decins, thÃ©rapeutes et autres professionne
 ls de la santÃ©. Le rÃ©fÃ©rant de cette confÃ©rence est le Dr M. KnÃ¶r
 inger.Lâ€™entrÃ©e est libre, les dons sont les bienvenus.Les guÃ©rison
 s extraordinaires sont regardÃ©es par grand nombre de mÃ©decins sous u
 n aspect critique,de lors quâ€™elles se sont produites par la seule vo
 ie spirituelle. NÃ©anmoins, en captant la force curative, de plus en p
 lus de personnes font lâ€™expÃ©rience dâ€™aide et de guÃ©risons de leu
 rs souffrances, dÃ©clarÃ©es incurables par les mÃ©decins. Des nombreus
 es guÃ©risons se sont produites aprÃ¨s un long parcours avec des multi
 ples traitements sans rÃ©sultat.Â Contact : TÃ©l. : 0041 â€“ (0)78-675
  26 92 â€“Â courriel : suisse@bruno-groening.orgwww.bruno-groening/fra
 ncais\n\nPour plus d'information, aller sur https://epanews.fr/events/
 conf-rence-d-information-sur-la-gu-rison-par-voie-spirituelle-10
DTSTART;TZID=Europe/Paris:20150530T193000
DTEND;TZID=Europe/Paris:20150530T210000
CATEGORIES:suisse
LOCATION:Lausanne
WEBSITE:http://www.bruno-groening.org/francais
URL:http://www.bruno-groening.org/francais
CONTACT:0041 â€“ (0)78-675 26 92
ORGANIZER:Cercle des amis de Bruno GrÃ¶ning
ATTACH;FMTTYPE="image/jpeg":http://storage.ning.com/topology/rest/1.0/
 file/get/1663393483?profile=original
ATTENDEE;ROLE=REQ-PARTICIPANT;PARTSTAT=ACCEPTED;RSVP=TRUE;CN=Partage:h
 ttps://epanews.fr/profile/Partage
END:VEVENT
END:VCALENDAR
