BEGIN:VCALENDAR
PRODID:NingEventWidget-v1
VERSION:2.0
METHOD:PUBLISH
BEGIN:VTIMEZONE
TZID:Europe/Paris
X-LIC-LOCATION:Europe/Paris
BEGIN:DAYLIGHT
TZOFFSETFROM:+0100
TZOFFSETTO:+0200
TZNAME:CEST
DTSTART:19700329T020000
RRULE:FREQ=YEARLY;BYMONTH=3;BYDAY=-1SU
END:DAYLIGHT
BEGIN:STANDARD
TZOFFSETFROM:+0200
TZOFFSETTO:+0100
TZNAME:CET
DTSTART:19701025T030000
RRULE:FREQ=YEARLY;BYMONTH=10;BYDAY=-1SU
END:STANDARD
END:VTIMEZONE
BEGIN:VEVENT
UID:2485226:Event:1665789
DTSTAMP:20260423T235054Z
SUMMARY:Conférence d'Henri Joyeux 11 décembre Albertville
DESCRIPTION:Santé et Nutrition, Les maladies dites de civilisation * 
 sont-elles évitables ? Une bonne nutrition peut-elle contribuer à no
 us maintenir en bonne santé et à nous permettre de mieux lutter face
  à la maladie ? * Maladies de civilisation : cancer, diabète, surpoi
 ds et syndrome métabolique, affections cardiovasculaires, affections 
 neurodégénératives et maladie d’Alzheimer, maladies auto-immunes 
 (polyarthrites, sclérodermies, scléroses en plaques, maladie de Croh
 n et rectocolite)...\nParticipation : 8 € Tarif réduit : 5 € (mem
 bres de l’association Bien Vivre à Grignon) Placement libre\n\nPour
  plus d'information, aller sur https://epanews.fr/events/conf-rence-d-
 henri-joyeux-11-d-cembre-albertville-1
DTSTART;TZID=Europe/Paris:20131211T200000
DTEND;TZID=Europe/Paris:20131211T220000
CATEGORIES:73
LOCATION:Albertville à 20H
WEBSITE:
URL:
CONTACT:
ORGANIZER:asso \" Bien vivre à Grignon\"
ATTACH;FMTTYPE="image/jpeg":http://storage.ning.com/topology/rest/1.0/
 file/get/1662984191?profile=original
ATTENDEE;ROLE=REQ-PARTICIPANT;PARTSTAT=ACCEPTED;RSVP=TRUE;CN="Vr@ienat
 ure   ♫ *☻ ♥ ♪":https://epanews.fr/profile/Pierrego
END:VEVENT
END:VCALENDAR
