BEGIN:VCALENDAR
PRODID:NingEventWidget-v1
VERSION:2.0
METHOD:PUBLISH
BEGIN:VTIMEZONE
TZID:Europe/Paris
X-LIC-LOCATION:Europe/Paris
BEGIN:DAYLIGHT
TZOFFSETFROM:+0100
TZOFFSETTO:+0200
TZNAME:CEST
DTSTART:19700329T020000
RRULE:FREQ=YEARLY;BYMONTH=3;BYDAY=-1SU
END:DAYLIGHT
BEGIN:STANDARD
TZOFFSETFROM:+0200
TZOFFSETTO:+0100
TZNAME:CET
DTSTART:19701025T030000
RRULE:FREQ=YEARLY;BYMONTH=10;BYDAY=-1SU
END:STANDARD
END:VTIMEZONE
BEGIN:VEVENT
UID:2485226:Event:2255422
DTSTAMP:20260421T110047Z
SUMMARY:ConfÃ©rence dÃ©dicace exceptionnelle \" Soignez avec l'Ã©nergi
 e\" avec Luc Bodin
DESCRIPTION:Luc Bodin est Docteur en mÃ©decine, diplÃ´mÃ© en cancÃ©rol
 ogie clinique et spÃ©cialiste en mÃ©decines naturelles. Il est de plus
  confÃ©rencier au niveau international, conseiller scientifique, maÃ®t
 re de stage et auteur de nombreux livres destinÃ©s au grand public don
 t Â«Â Soignez avec lâ€™Ã©nergieÂ Â», Â«Â Hoâ€™oponoponoÂ Â», Â«Â La mÃ
 ©thode AoraÂ Â» et Â«Â Manuel de soins Ã©nergÃ©tiquesÂ Â».\nLors de ce
 tte confÃ©rence, le Docteur Luc Bodin expliquera les diffÃ©rentes thÃ©
 rapies mises au point utilisant lâ€™Ã©nergie en matiÃ¨re de soins.\nTa
 rif : 10 euros (rÃ©servations vivement conseillÃ©es auprÃ¨s de la libr
 airie PÃ©gase au 05 56 51 38 12).\nDEDICACE Ã  l'issue de la confÃ©ren
 ce au restaurant \"l'Estran\" situÃ© en face de l'AthÃ©nÃ©e.\n\n\nPour
  plus d'information, aller sur https://epanews.fr/events/conf-rence-d-
 dicace-exceptionnelle-soignez-avec-l-nergie-avec-luc
DTSTART;TZID=Europe/Paris:20150408T200000
DTEND;TZID=Europe/Paris:20150408T220000
CATEGORIES:33, 47, 24, 40, 64
LOCATION:Salle AthÃ©nÃ©e PÃ¨re Joseph Wresinski
WEBSITE:http://www.librairie-pegase.fr
URL:http://www.librairie-pegase.fr
CONTACT:05 56 51 38 12
ORGANIZER;CN="Librairie PEGASE":https://epanews.fr/profile/LibrairiePE
 GASE
ATTACH;FMTTYPE="image/jpeg":http://storage.ning.com/topology/rest/1.0/
 file/get/1663345677?profile=original
ATTENDEE;ROLE=REQ-PARTICIPANT;PARTSTAT=ACCEPTED;RSVP=TRUE;CN="Librairi
 e PEGASE":https://epanews.fr/profile/LibrairiePEGASE
END:VEVENT
END:VCALENDAR
