BEGIN:VCALENDAR
PRODID:NingEventWidget-v1
VERSION:2.0
METHOD:PUBLISH
BEGIN:VTIMEZONE
TZID:Europe/Paris
X-LIC-LOCATION:Europe/Paris
BEGIN:DAYLIGHT
TZOFFSETFROM:+0100
TZOFFSETTO:+0200
TZNAME:CEST
DTSTART:19700329T020000
RRULE:FREQ=YEARLY;BYMONTH=3;BYDAY=-1SU
END:DAYLIGHT
BEGIN:STANDARD
TZOFFSETFROM:+0200
TZOFFSETTO:+0100
TZNAME:CET
DTSTART:19701025T030000
RRULE:FREQ=YEARLY;BYMONTH=10;BYDAY=-1SU
END:STANDARD
END:VTIMEZONE
BEGIN:VEVENT
UID:2485226:Event:2425358
DTSTAMP:20260421T190550Z
SUMMARY:Conférence Dédicace avec Bernard Clavière
DESCRIPTION:Jeudi 5 novembre à 20h\n\n « Démédicaliser notre vie
 ,\n\ngrâce aux moyens naturels de santé »\n\nAvec Bernard CLAVIERE
 \n\nAprès une enfance marquée par de graves problèmes de santé, Be
 rnard Clavière expérimente de nombreux moyens naturels de santé, do
 nt le jeüne, et aujoud’hui à 61 ans, il n’a jamais consulté un 
 médecin pour cause de maladie. Il mange une seule fois par jour, prat
 ique des sports intenses sans avoir mangé depuis 24h. Sa vie est la d
 émonstration éclatante qu’une réduction alimentaire associée à 
 des périodes régulières de jeûne total est une véritable panacée
  universelle. Conférencier, auteur, créateur de l’entreprise « N
 ature & Partage », Bernard nous parlera également de la nouvelle é
 dition de son livre « Et si on arrêtait un peu de manger ... de tem
 ps en temps. ».\n\n   Tarif :  10 €\nEcole Notre Dame en face 
 de Pégase à Bordeaux\n(Entrée haut de la rue Gensonné)\n\nRéserva
 tions obligatoires à la librairie – Places limitées\n\n\n\nPour pl
 us d'information, aller sur https://epanews.fr/events/conf-rence-d-dic
 ace-avec-bernard-clavi-re
DTSTART;TZID=Europe/Paris:20151105T200000
DTEND;TZID=Europe/Paris:20151105T220000
CATEGORIES:33, 24, 47, 40, 64
LOCATION:Ecole Notre Dame (en face de la librairie Pégase)
WEBSITE:http://www.librairie-pegase.fr
URL:http://www.librairie-pegase.fr
CONTACT:05 56 51 38 12
ORGANIZER;CN="Librairie PEGASE":https://epanews.fr/profile/LibrairiePE
 GASE
ATTACH;FMTTYPE="image/jpeg":http://storage.ning.com/topology/rest/1.0/
 file/get/1663453644?profile=original
ATTENDEE;ROLE=REQ-PARTICIPANT;PARTSTAT=ACCEPTED;RSVP=TRUE;CN="Serge Se
 rge":https://epanews.fr/profile/sergeserge
ATTENDEE;ROLE=REQ-PARTICIPANT;PARTSTAT=ACCEPTED;RSVP=TRUE;CN="Librairi
 e PEGASE":https://epanews.fr/profile/LibrairiePEGASE
END:VEVENT
END:VCALENDAR
