BEGIN:VCALENDAR
PRODID:NingEventWidget-v1
VERSION:2.0
METHOD:PUBLISH
BEGIN:VTIMEZONE
TZID:Europe/Paris
X-LIC-LOCATION:Europe/Paris
BEGIN:DAYLIGHT
TZOFFSETFROM:+0100
TZOFFSETTO:+0200
TZNAME:CEST
DTSTART:19700329T020000
RRULE:FREQ=YEARLY;BYMONTH=3;BYDAY=-1SU
END:DAYLIGHT
BEGIN:STANDARD
TZOFFSETFROM:+0200
TZOFFSETTO:+0100
TZNAME:CET
DTSTART:19701025T030000
RRULE:FREQ=YEARLY;BYMONTH=10;BYDAY=-1SU
END:STANDARD
END:VTIMEZONE
BEGIN:VEVENT
UID:2485226:Event:1047427
DTSTAMP:20260422T191340Z
SUMMARY:Conférence : Découvrez le Référentiel de Naissance
DESCRIPTION:Au cours de cette conférence, vous découvrirez les bases
  sur lesquelles on construit son Référentiel de Naissance.\nJe vous 
 donnerai une première approche du sens des treize maisons qui le comp
 osent et nous verrons comment les archétypes en relation avec les arc
 anes du tarot s’expriment en fonction de la maison dans laquelle ils
  se trouvent.\nLibrairie « Les Cent Ciels », 196 bd de Charonne à
  Paris 11ème, métro Philippe Auguste\nParticipation : 10€ – tar
 if réduit 8€\n\nPour plus d'information, aller sur https://epanews.
 fr/events/conf-rence-d-couvrez-le-r-f-rentiel-de-naissance
DTSTART;TZID=Europe/Paris:20121212T190000
DTEND;TZID=Europe/Paris:20121212T210000
CATEGORIES:75
LOCATION:Librairie « Les Cent Ciels »
WEBSITE:http://www.chemins-de-sens.fr
URL:http://www.chemins-de-sens.fr
CONTACT:06 72 44 18 33
ORGANIZER;CN=caroline:https://epanews.fr/profile/caroline589
ATTACH;FMTTYPE="image/jpeg":http://storage.ning.com/topology/rest/1.0/
 file/get/1662709029?profile=original
ATTENDEE;ROLE=REQ-PARTICIPANT;PARTSTAT=ACCEPTED;RSVP=TRUE;CN=caroline:
 https://epanews.fr/profile/caroline589
END:VEVENT
END:VCALENDAR
