BEGIN:VCALENDAR
PRODID:NingEventWidget-v1
VERSION:2.0
METHOD:PUBLISH
BEGIN:VTIMEZONE
TZID:Europe/Paris
X-LIC-LOCATION:Europe/Paris
BEGIN:DAYLIGHT
TZOFFSETFROM:+0100
TZOFFSETTO:+0200
TZNAME:CEST
DTSTART:19700329T020000
RRULE:FREQ=YEARLY;BYMONTH=3;BYDAY=-1SU
END:DAYLIGHT
BEGIN:STANDARD
TZOFFSETFROM:+0200
TZOFFSETTO:+0100
TZNAME:CET
DTSTART:19701025T030000
RRULE:FREQ=YEARLY;BYMONTH=10;BYDAY=-1SU
END:STANDARD
END:VTIMEZONE
BEGIN:VEVENT
UID:2485226:Event:2978336
DTSTAMP:20260421T031931Z
SUMMARY:Conférence découvrir la visualisation créatrice pour attein
 dre vos objectifs
DESCRIPTION: Vous avez envie d'amorcer un changement durable, rapide e
 t efficace dans votre vie (Relations, prospérité, travail, santé, .
 ..) ?  Mais jusqu'à maintenant vous n'avez pas trouvé la méthode qu
 i vous convient pour concrétiser vos objectifs ?  La Visualisation Cr
 éatrice qu'est ce que c'est ? La Visualisation est une technique qui 
 vise à utiliser l’imagination pour booster l'atteinte de vos object
 ifs et concrétiser vos désirs. Elle fait déjà ses preuves depuis p
 lusieurs années dans le domaine du sport (préparation mentale) et de
  la santé (où l'on parle d'imagerie mentale).  Le programme Cette co
 nférence de 2h a pour objectif de vous faire découvrir la puissance 
 de cet outil et de goûter à la Visualisation Créatrice.   Elle ser
 a animée en deux temps :  >> Un temps de découverte :  - Présentat
 ion de la Visualisation Créatrice  - Découverte des techniques et o
 utils de Visualisation  - Comment formuler vos demandes pour attirer 
 ce que vous souhaitez réellement ? - Comprendre les mécanismes de l'
 attraction  - Identifier et lever les principaux blocages  - Ajuster
  son état d'esprit pour dépasser les blocages et intégrer la Visual
 isation Créatrice dans votre vie ce dernier point sera approfondi lor
 s d'un atelier dédié le 20 octobre  >> Une visualisation guidée. - 
 Nous terminerons cette conférence par une visualisation guidée afin 
 de vous faire goûter au bonheur et la joie d'activer la Visualisation
  Créatrice dans votre vie.  Informations complémentaires Date : Vend
 redi 12 octobre à 19h Participation : 11 euros  Inscription (nombre 
 de places limitées) : S'inscrire ici Lieu : A l'Ammazenie 30 avenue 
 pierre loti Rezé Bus : 33 arrêt www.destineo.fr \nCette conférenc
 e sera suivie d'un atelier \"Comment créer votre tableau de visualisa
 tion pour atteindre vos objectifs\" En savoir plus Date : Samedi 20 oc
 tobre de 14h à 18h Participation : 40 euros (pause et matériel inclu
 s) Inscription (nombre de places limitées) : 15 personnes - Merci de 
 vous inscrire via ce lien : s'inscrire\n\nPour plus d'information, all
 er sur https://epanews.fr/events/conf-rence-d-couvrez-la-visualisation
 -cr-atrice-rez
DTSTART;TZID=Europe/Paris:20181012T190000
DTEND;TZID=Europe/Paris:20181012T210000
CATEGORIES:44
LOCATION:L'Ammazenie
WEBSITE:https://www.facebook.com/events/284903115445041/?active_tab=ab
 out
URL:https://www.facebook.com/events/284903115445041/?active_tab=about
CONTACT:
ORGANIZER;CN=Revelons-Nous:https://epanews.fr/profile/RevelonsNous
ATTACH;FMTTYPE="image/jpeg":http://storage.ning.com/topology/rest/1.0/
 file/get/1663756472?profile=original
ATTENDEE;ROLE=REQ-PARTICIPANT;PARTSTAT=ACCEPTED;RSVP=TRUE;CN=Revelons-
 Nous:https://epanews.fr/profile/RevelonsNous
END:VEVENT
END:VCALENDAR
