BEGIN:VCALENDAR
PRODID:NingEventWidget-v1
VERSION:2.0
METHOD:PUBLISH
BEGIN:VTIMEZONE
TZID:Europe/Paris
X-LIC-LOCATION:Europe/Paris
BEGIN:DAYLIGHT
TZOFFSETFROM:+0100
TZOFFSETTO:+0200
TZNAME:CEST
DTSTART:19700329T020000
RRULE:FREQ=YEARLY;BYMONTH=3;BYDAY=-1SU
END:DAYLIGHT
BEGIN:STANDARD
TZOFFSETFROM:+0200
TZOFFSETTO:+0100
TZNAME:CET
DTSTART:19701025T030000
RRULE:FREQ=YEARLY;BYMONTH=10;BYDAY=-1SU
END:STANDARD
END:VTIMEZONE
BEGIN:VEVENT
UID:2485226:Event:957672
DTSTAMP:20260424T093316Z
SUMMARY:conférence-débat  « La Médiumnité au service de la Théra
 pie »
DESCRIPTION:Conférence-Débat\n« La Médiumnité au service de la T
 hérapie »\nNadine-Sarah Penna - Franck Aubert &Paul Hénné,\nEcriv
 ain-Autobiographie de son expérience de mort rapprochée.\nQuand le r
 ationnel s’arrête, la médiumnité peut prendre le relais,\nVenant 
 donner sens là où le mental ne peut accéder ; elle  permet ainsi 
 de créer des ponts entre une compréhension psychologique et la dimen
 sion spirituelle.\nTarif : 10€\n\nPour plus d'information, aller su
 r https://epanews.fr/events/conf-rence-d-bat-la-m-diumnit-au-service-d
 e-la-th-rapie
DTSTART;TZID=Europe/Paris:20121026T190000
DTEND;TZID=Europe/Paris:20121026T213000
CATEGORIES:83
LOCATION:Foyer de la Jeunesse
WEBSITE:
URL:
CONTACT:Nadine-Sarah : 06 74 83 42 51  ou  nadine.penna@free.fr  Franc
 k : 06 19 15 16 70
ORGANIZER;CN="Franck et Nadine Sarah Aubert":https://epanews.fr/profil
 e/FranckAUBERT
ATTACH;FMTTYPE="image/jpeg":http://storage.ning.com/topology/rest/1.0/
 file/get/1662668963?profile=original
ATTENDEE;ROLE=REQ-PARTICIPANT;PARTSTAT=ACCEPTED;RSVP=TRUE;CN="THERAPY 
 BIEN ETRE":https://epanews.fr/profile/cristalviolet
ATTENDEE;ROLE=REQ-PARTICIPANT;PARTSTAT=ACCEPTED;RSVP=TRUE;CN="Franck e
 t Nadine Sarah Aubert":https://epanews.fr/profile/FranckAUBERT
END:VEVENT
END:VCALENDAR
