BEGIN:VCALENDAR
PRODID:NingEventWidget-v1
VERSION:2.0
METHOD:PUBLISH
BEGIN:VTIMEZONE
TZID:Europe/Paris
X-LIC-LOCATION:Europe/Paris
BEGIN:DAYLIGHT
TZOFFSETFROM:+0100
TZOFFSETTO:+0200
TZNAME:CEST
DTSTART:19700329T020000
RRULE:FREQ=YEARLY;BYMONTH=3;BYDAY=-1SU
END:DAYLIGHT
BEGIN:STANDARD
TZOFFSETFROM:+0200
TZOFFSETTO:+0100
TZNAME:CET
DTSTART:19701025T030000
RRULE:FREQ=YEARLY;BYMONTH=10;BYDAY=-1SU
END:STANDARD
END:VTIMEZONE
BEGIN:VEVENT
UID:2485226:Event:1601563
DTSTAMP:20260423T072914Z
SUMMARY:Conférence /Débat : Du célibat au couple  ou   les clés d 
 une relation harmonieuse dans le couple
DESCRIPTION:Conférence /Débat : Du célibat au couple ou les clés d
  une relation harmonieuse dans le couple\n> Que vous soyez célibatair
 e ou en couple, cette conférence est pour vous. > > Passer du céliba
 t à la vie en couple nécessite de se poser certaines questions, la v
 ie en couple n'est pas du célibat amélioré, cela demande un certain
  engagement des deux parties qui désirent vivre un bout de chemin ens
 emble. > c est une aventure que l'on peux vivre harmonieusement, le to
 ut est de savoir ce que l'on veux vraiment . > > Passer du célibat à
  la vie en couple nécessite de se poser certaines questions, la vie e
 n couple n'est pas du célibat amélioré, cela demande un engagement 
 des deux parties qui désirent vivre un bout de chemin ensemble. > En 
 général, faute de s'être posé les bonnes questions, les relations 
 dans un couple au quotidien sont remplies de quiproquos,de malentendus
 ,de projections qui peu à peu sapent l amour qui lie les deux protago
 nistes > > Se poser les bonnes questions, connaître certaines choses 
 sont nécessaire a créer ou maintenir le couple dans l'harmonie > C'e
 st à cela que je vous invite dans cette conférence > > Participation
  5€ > > Conférencier ITIER Christophe:(Conseillé relationnel,auteu
 r, formateur) > Inscription nécessaire par mail ou par tel au 0689604
 147\n\nPour plus d'information, aller sur https://epanews.fr/events/co
 nf-rence-d-bat-du-c-libat-au-couple-ou-les-cl-s-d-une-relation
DTSTART;TZID=Europe/Paris:20131114T203000
DTEND;TZID=Europe/Paris:20131114T223000
CATEGORIES:09
LOCATION:foix
WEBSITE:
URL:
CONTACT:0689604147
ORGANIZER;CN="itier christophe":https://epanews.fr/profile/itierchrist
 ophe
ATTACH;FMTTYPE="image/jpeg":http://storage.ning.com/topology/rest/1.0/
 file/get/1662958587?profile=original
ATTENDEE;ROLE=REQ-PARTICIPANT;PARTSTAT=ACCEPTED;RSVP=TRUE;CN="itier ch
 ristophe":https://epanews.fr/profile/itierchristophe
END:VEVENT
END:VCALENDAR
