BEGIN:VCALENDAR
PRODID:NingEventWidget-v1
VERSION:2.0
METHOD:PUBLISH
BEGIN:VTIMEZONE
TZID:Europe/Paris
X-LIC-LOCATION:Europe/Paris
BEGIN:DAYLIGHT
TZOFFSETFROM:+0100
TZOFFSETTO:+0200
TZNAME:CEST
DTSTART:19700329T020000
RRULE:FREQ=YEARLY;BYMONTH=3;BYDAY=-1SU
END:DAYLIGHT
BEGIN:STANDARD
TZOFFSETFROM:+0200
TZOFFSETTO:+0100
TZNAME:CET
DTSTART:19701025T030000
RRULE:FREQ=YEARLY;BYMONTH=10;BYDAY=-1SU
END:STANDARD
END:VTIMEZONE
BEGIN:VEVENT
UID:2485226:Event:1400677
DTSTAMP:20260421T171352Z
SUMMARY:Conférence/Débat : Dans quelles réalités vivons-nous?
DESCRIPTION:La physique quantique depuis des années remet en question
  la plupart des croyances et lois sur lesquelles repose notre concepti
 on de la réalité, diverses théories sont apparue pour tenter d'expl
 iquer ce que les observations de l'infiniment petit mettent en éviden
 ce . Ces théories sont très peu connues du public pourtant elles ouv
 rent des champs énormes de recherches et d'applications, elles nous i
 nvitent aussi à reconsidérer notre vision de l'univers et de l'homme
 .\nSavez-vous quel lien existe entre la loi d'attractions, les particu
 les, l'éveil spirituel, la matière, la géométrie, l'amour ?\nAnima
 nt des conférences sur la loi d'attraction, loi qui nous permet d'obt
 enir ce que nous désirons, j'ai essayé de comprendre comment cette l
 oi fonctionnait vraiment et ce qu'elle sous-entendait.\nLes découvert
 es que j'ai faite en étudiant la physique quantique m'ont montré à 
 quel point cette dernière était le chainon manquant entre la science
  et la spiritualité.\nA travers cette conférence je tente de rendre 
 ces découvertes compréhensives pour chacun d'entre nous, tant les no
 uvelles visions qu'elle apportent ont la capacité d'ouvrir notre cons
 cience, changeant ainsi le regard que nous portons sur nous-mêmes et 
 notre environnement de manière positive\n\nPour plus d'information, a
 ller sur https://epanews.fr/events/conf-rence-d-bat-dans-quelles-r-ali
 t-s-vivons-nous-1
DTSTART;TZID=Europe/Paris:20130619T203000
DTEND;TZID=Europe/Paris:20130619T223000
CATEGORIES:31
LOCATION:a la MANE
WEBSITE:
URL:
CONTACT:0689604147
ORGANIZER;CN="itier christophe":https://epanews.fr/profile/itierchrist
 ophe
ATTACH;FMTTYPE="image/jpeg":http://storage.ning.com/topology/rest/1.0/
 file/get/1662858864?profile=original
ATTENDEE;ROLE=REQ-PARTICIPANT;PARTSTAT=ACCEPTED;RSVP=TRUE;CN="itier ch
 ristophe":https://epanews.fr/profile/itierchristophe
END:VEVENT
END:VCALENDAR
