BEGIN:VCALENDAR
PRODID:NingEventWidget-v1
VERSION:2.0
METHOD:PUBLISH
BEGIN:VTIMEZONE
TZID:Europe/Paris
X-LIC-LOCATION:Europe/Paris
BEGIN:DAYLIGHT
TZOFFSETFROM:+0100
TZOFFSETTO:+0200
TZNAME:CEST
DTSTART:19700329T020000
RRULE:FREQ=YEARLY;BYMONTH=3;BYDAY=-1SU
END:DAYLIGHT
BEGIN:STANDARD
TZOFFSETFROM:+0200
TZOFFSETTO:+0100
TZNAME:CET
DTSTART:19701025T030000
RRULE:FREQ=YEARLY;BYMONTH=10;BYDAY=-1SU
END:STANDARD
END:VTIMEZONE
BEGIN:VEVENT
UID:2485226:Event:589129
DTSTAMP:20260423T012101Z
SUMMARY:Conférence débat ;comment réaliser tous nos rêves
DESCRIPTION:pour réaliser tous ses rêves,il faut bien comprendre com
 ment fonctionne une loi physique appelée \" la loi d'attraction peu d
 e gens connaissent cette loi et pour ceux qui l'emploient, beaucoup l'
 utilisent mal et n'obtiennent pas les résultats espérés.pour bien c
 omprendre et appliquer ce processus, je vous invite à participer à c
 ette conférence\nattention veuillez confirmer votre venue car la conf
  peux être annulé\n\nPour plus d'information, aller sur https://epan
 ews.fr/events/conf-rence-d-bat-comment-r-aliser-tous-nos-r-ves
DTSTART;TZID=Europe/Paris:20111123T203000
DTEND;TZID=Europe/Paris:20111123T223000
CATEGORIES:31
LOCATION:toulouse
WEBSITE:
URL:
CONTACT:0689604147
ORGANIZER;CN="itier christophe":https://epanews.fr/profile/itierchrist
 ophe
ATTACH;FMTTYPE="image/jpeg":
ATTENDEE;ROLE=REQ-PARTICIPANT;PARTSTAT=ACCEPTED;RSVP=TRUE;CN="itier ch
 ristophe":https://epanews.fr/profile/itierchristophe
END:VEVENT
END:VCALENDAR
