BEGIN:VCALENDAR
PRODID:NingEventWidget-v1
VERSION:2.0
METHOD:PUBLISH
BEGIN:VTIMEZONE
TZID:Europe/Paris
X-LIC-LOCATION:Europe/Paris
BEGIN:DAYLIGHT
TZOFFSETFROM:+0100
TZOFFSETTO:+0200
TZNAME:CEST
DTSTART:19700329T020000
RRULE:FREQ=YEARLY;BYMONTH=3;BYDAY=-1SU
END:DAYLIGHT
BEGIN:STANDARD
TZOFFSETFROM:+0200
TZOFFSETTO:+0100
TZNAME:CET
DTSTART:19701025T030000
RRULE:FREQ=YEARLY;BYMONTH=10;BYDAY=-1SU
END:STANDARD
END:VTIMEZONE
BEGIN:VEVENT
UID:2485226:Event:1854384
DTSTAMP:20260422T121925Z
SUMMARY:Conférence débat avec l'écrivain Conrad sur la conscience e
 t les possibilités de nos énergies, et de l'esprit
DESCRIPTION:Je vous propose de venir partager 2 heures de conférence-
 débat-dédicace (20h30) animée par Conrad l'auteur de \"Prends consc
 ience et avance\" et \"Un même souffle\".Lors de cette conférence de
  nombreux thèmes seront abordés autour de la conscience, de l'état 
 actuel du monde et des possibilités de nos énergies et de l'esprit q
 ui peuvent transformer notre vie pour aujourd'hui et pour demain. Rés
 ervation conseillée  Pour ceux qui ne connaissent pas Conrad vous pou
 vez visiter son site www.conrad-a.com   La conférence sera suivi d'
 un séminaire atelier de 2 jours le 31 mai et 1er juin  Adresse De la 
 conférence et du stage à 7km de Toulouse: Espace de liberté et d'é
 panouissement Lamane 9, Avenue de Lagarde 31130 Balma  Pour tout rense
 ignement et inscription m'écrire à lesmainsdelumiere@orange.fr\nhtt
 ps://www.youtube.com/watch?v=soljYvBi_do\n\nPour plus d'information, a
 ller sur https://epanews.fr/events/conf-rence-d-bat-avec-l-crivain-con
 rad-sur-la-conscience-et-les
DTSTART;TZID=Europe/Paris:20140424T203000
DTEND;TZID=Europe/Paris:20140424T223000
CATEGORIES:31
LOCATION:Toulouse
WEBSITE:https://www.google.fr/maps/@43.6024777,1.5017743,17z
URL:https://www.google.fr/maps/@43.6024777,1.5017743,17z
CONTACT:0625885893
ORGANIZER;CN=Mylène:https://epanews.fr/profile/ANIMALAME
ATTACH;FMTTYPE="image/jpeg":http://storage.ning.com/topology/rest/1.0/
 file/get/1663101497?profile=original
ATTENDEE;ROLE=REQ-PARTICIPANT;PARTSTAT=ACCEPTED;RSVP=TRUE;CN="La Berry
 ":https://epanews.fr/profile/LaBerry
ATTENDEE;ROLE=REQ-PARTICIPANT;PARTSTAT=ACCEPTED;RSVP=TRUE;CN=Mylène:h
 ttps://epanews.fr/profile/ANIMALAME
END:VEVENT
END:VCALENDAR
