BEGIN:VCALENDAR
PRODID:NingEventWidget-v1
VERSION:2.0
METHOD:PUBLISH
BEGIN:VTIMEZONE
TZID:Europe/Paris
X-LIC-LOCATION:Europe/Paris
BEGIN:DAYLIGHT
TZOFFSETFROM:+0100
TZOFFSETTO:+0200
TZNAME:CEST
DTSTART:19700329T020000
RRULE:FREQ=YEARLY;BYMONTH=3;BYDAY=-1SU
END:DAYLIGHT
BEGIN:STANDARD
TZOFFSETFROM:+0200
TZOFFSETTO:+0100
TZNAME:CET
DTSTART:19701025T030000
RRULE:FREQ=YEARLY;BYMONTH=10;BYDAY=-1SU
END:STANDARD
END:VTIMEZONE
BEGIN:VEVENT
UID:2485226:Event:1015801
DTSTAMP:20260423T173438Z
SUMMARY:Conférence Crânes de Cristal
DESCRIPTION:Une légende Maya nous dit que lorsque les 13 crânes de c
 ristal seront réunis en 2012, ils ont un message à délivrer à l’
 humanité. Que sont ces artefacts, d’où viennent-ils ?\nCe qu’il
  faut savoir à propos des crânes de cristal c’est qu’il n'y a pa
 s une seule explication simple. Ils agissent, ils fonctionnent, ils ex
 istent sur plusieurs niveaux différents en même temps. Il y a plusie
 urs façons de les regarder, de travailler avec et de les comprendre.\
 nJe me déplace sur les conférences avec mon crâne de cristal Siriu
 s (8,100 kg) et 3 crânes anciens.\nCette conférence mettra en évide
 nce : La Légende Maya - L’historique des crânes de cristal - Les c
 rânes découverts à ce jour - Les différents types de crânes - Com
 ment travailler avec les crânes de cristal…\nPatrice Marty serra pr
 ésent avec ces crânes anciens, pensez à prendre les vôtres !\nEntr
 ée 15 €\n\nPour plus d'information, aller sur https://epanews.fr/ev
 ents/conf-rence-cr-nes-de-cristal
DTSTART;TZID=Europe/Paris:20121123T200000
DTEND;TZID=Europe/Paris:20121123T220000
CATEGORIES:75
LOCATION:Espace Harmonie
WEBSITE:
URL:
CONTACT:01 47 70 78 79
ORGANIZER;CN="Patrice Marty":https://epanews.fr/profile/PatriceMarty
ATTACH;FMTTYPE="image/jpeg":
ATTENDEE;ROLE=REQ-PARTICIPANT;PARTSTAT=ACCEPTED;RSVP=TRUE;CN="Patrice 
 Marty":https://epanews.fr/profile/PatriceMarty
END:VEVENT
END:VCALENDAR
