BEGIN:VCALENDAR
PRODID:NingEventWidget-v1
VERSION:2.0
METHOD:PUBLISH
BEGIN:VTIMEZONE
TZID:Europe/Paris
X-LIC-LOCATION:Europe/Paris
BEGIN:DAYLIGHT
TZOFFSETFROM:+0100
TZOFFSETTO:+0200
TZNAME:CEST
DTSTART:19700329T020000
RRULE:FREQ=YEARLY;BYMONTH=3;BYDAY=-1SU
END:DAYLIGHT
BEGIN:STANDARD
TZOFFSETFROM:+0200
TZOFFSETTO:+0100
TZNAME:CET
DTSTART:19701025T030000
RRULE:FREQ=YEARLY;BYMONTH=10;BYDAY=-1SU
END:STANDARD
END:VTIMEZONE
BEGIN:VEVENT
UID:2485226:Event:794612
DTSTAMP:20260421T053929Z
SUMMARY:ConfÃ©rence: contre l'hyperactivitÃ©... changer d'assiette
DESCRIPTION:C'est un constat inquiÃ©tant... de nombreux enfants ont un
 e telle dispersion que leur Ã©coute en est affectÃ©e...Â \nÃ  chercher
  des remÃ¨des, en dehors de la neutralisation de la pÃ©ridurale Ã  la 
 naissance qui peut Ãªtre une cause d'agitation, j'ai rencontrÃ© une pÃ
 ©diatre qui s'est spÃ©cialisÃ©e dans ces problÃ¨mes. la DRe frÃ©dÃ©riq
 ue Caudal viendra nous parler d'une source de l'hyperactivitÃ©, l'alim
 entation industrielle ... en 4 jours , avec ce protocole, un enfant pe
 ut retrouver ses facultÃ©s d'attention et deÂ comportementÂ Ã©quilibrÃ
 ©... et dire que cela est connu depuis 1972.... l'information est frei
 nÃ©e Ã  cause desÂ intÃ©rÃªtsÂ en jeu...Merci de faire circulÃ©e l'inf
 o dans la rÃ©gion. Cette mÃ©decin habite Dijon, pour ceux qui seraient
  intÃ©ressÃ©s de la rencontrer ou la faire venir.\n\nPour plus d'infor
 mation, aller sur https://epanews.fr/events/conf-rence-contre-l-hypera
 ctivit-changer-d-assiette
DTSTART;TZID=Europe/Paris:20120524T200000
DTEND;TZID=Europe/Paris:20120524T220000
CATEGORIES:28
LOCATION:Esplanade 8 mai 1945. annexe de la mairie. Vernouillet. 28
WEBSITE:
URL:
CONTACT:
ORGANIZER;CN="Isabelle Jouck":https://epanews.fr/profile/IsabelleJouck
ATTACH;FMTTYPE="image/jpeg":
ATTENDEE;ROLE=REQ-PARTICIPANT;PARTSTAT=ACCEPTED;RSVP=TRUE;CN="Isabelle
  Jouck":https://epanews.fr/profile/IsabelleJouck
END:VEVENT
END:VCALENDAR
