BEGIN:VCALENDAR
PRODID:NingEventWidget-v1
VERSION:2.0
METHOD:PUBLISH
BEGIN:VTIMEZONE
TZID:Europe/Paris
X-LIC-LOCATION:Europe/Paris
BEGIN:DAYLIGHT
TZOFFSETFROM:+0100
TZOFFSETTO:+0200
TZNAME:CEST
DTSTART:19700329T020000
RRULE:FREQ=YEARLY;BYMONTH=3;BYDAY=-1SU
END:DAYLIGHT
BEGIN:STANDARD
TZOFFSETFROM:+0200
TZOFFSETTO:+0100
TZNAME:CET
DTSTART:19701025T030000
RRULE:FREQ=YEARLY;BYMONTH=10;BYDAY=-1SU
END:STANDARD
END:VTIMEZONE
BEGIN:VEVENT
UID:2485226:Event:551925
DTSTAMP:20260423T041111Z
SUMMARY:ConfÃ©rence \"communiquer avec les Ãªtres de lumiÃ¨re\"
DESCRIPTION:Vous aimeriez en savoir plus sur la possibilitÃ© d'Ãªtre e
 n contact avec les Ãªtres de lumiÃ¨re et de recevoir leur guidance que
  ce soit par l'intermÃ©diaire d'unÂ channel expÃ©rimentÃ© ou par votre
  propre canal ?\nQue peut nous apporter une communication avec Ãªtres 
 de lumiÃ¨re ?\nComment dÃ©velopper sa capacitÃ© d'Ãªtre canal, que ce 
 soit de notre Moi supÃ©rieur, d'Ã©nergies de guÃ©rison ou de Guides de
  lumiÃ¨re ?\nAu cours de cette confÃ©rence,Â Sophie vous partagera son
  expÃ©rience et vous parleraides diffÃ©rentes formes de canalisation,Â
  des buts de la canalisation dans notre parcours d'Ã©volution et des p
 iÃ¨ges Ã  Ã©viter.\nElleÂ partagera aussi quelques clÃ©sÂ pour se prÃ©
 parer Ã  canaliser , dÃ©velopper et bien vivre ce processus.Sophie Met
 they, thÃ©rapeute et channel canalise les Ã©nergies du Maitre Saint Ge
 rmain et de Marie Madeleine.\nElle anime des ateliers sur le dÃ©velopp
 ement de l'Ã©tat canal et la communication avec les Guides.\n\nPour pl
 us d'information, aller sur https://epanews.fr/events/conf-rence-commu
 niquer-avec-les-tres-de-lumi-re
DTSTART;TZID=Europe/Paris:20111102T200000
DTEND;TZID=Europe/Paris:20111102T213000
CATEGORIES:75004
LOCATION:PARIS
WEBSITE:
URL:
CONTACT:0142741426
ORGANIZER;CN="sophie metthey":https://epanews.fr/profile/sophiemetthey
ATTACH;FMTTYPE="image/jpeg":
ATTENDEE;ROLE=REQ-PARTICIPANT;PARTSTAT=ACCEPTED;RSVP=TRUE;CN="sophie m
 etthey":https://epanews.fr/profile/sophiemetthey
END:VEVENT
END:VCALENDAR
