BEGIN:VCALENDAR
PRODID:NingEventWidget-v1
VERSION:2.0
METHOD:PUBLISH
BEGIN:VTIMEZONE
TZID:Europe/Paris
X-LIC-LOCATION:Europe/Paris
BEGIN:DAYLIGHT
TZOFFSETFROM:+0100
TZOFFSETTO:+0200
TZNAME:CEST
DTSTART:19700329T020000
RRULE:FREQ=YEARLY;BYMONTH=3;BYDAY=-1SU
END:DAYLIGHT
BEGIN:STANDARD
TZOFFSETFROM:+0200
TZOFFSETTO:+0100
TZNAME:CET
DTSTART:19701025T030000
RRULE:FREQ=YEARLY;BYMONTH=10;BYDAY=-1SU
END:STANDARD
END:VTIMEZONE
BEGIN:VEVENT
UID:2485226:Event:2892471
DTSTAMP:20260424T155040Z
SUMMARY:Conférence \"Communiquer ça s'apprend !\" - Grenoble
DESCRIPTION:\"La communication est l'action de communiquer,\nd'établi
 r une relation avec autrui,\nde transmettre quelque chose à quelqu'un
 .\"\n\nLa communication est-elle innée ou bien s'agit-il d'une habile
 té relationnelle qu'il serait possible de développer ?\n\nSur inscri
 ption uniquement - PAF : 5 €\n\n\nPour plus d'information, aller su
 r https://epanews.fr/events/conf-rence-communiquer-a-s-apprend-grenobl
 e
DTSTART;TZID=Europe/Paris:20171201T193000
DTEND;TZID=Europe/Paris:20171201T210000
CATEGORIES:38
LOCATION:Grenoble
WEBSITE:
URL:
CONTACT:06 95 38 06 34
ORGANIZER;CN=Katrine:https://epanews.fr/profile/Katrine
ATTACH;FMTTYPE="image/jpeg":http://storage.ning.com/topology/rest/1.0/
 file/get/1663695244?profile=original
ATTENDEE;ROLE=REQ-PARTICIPANT;PARTSTAT=ACCEPTED;RSVP=TRUE;CN=Katrine:h
 ttps://epanews.fr/profile/Katrine
END:VEVENT
END:VCALENDAR
