BEGIN:VCALENDAR
PRODID:NingEventWidget-v1
VERSION:2.0
METHOD:PUBLISH
BEGIN:VTIMEZONE
TZID:Europe/Paris
X-LIC-LOCATION:Europe/Paris
BEGIN:DAYLIGHT
TZOFFSETFROM:+0100
TZOFFSETTO:+0200
TZNAME:CEST
DTSTART:19700329T020000
RRULE:FREQ=YEARLY;BYMONTH=3;BYDAY=-1SU
END:DAYLIGHT
BEGIN:STANDARD
TZOFFSETFROM:+0200
TZOFFSETTO:+0100
TZNAME:CET
DTSTART:19701025T030000
RRULE:FREQ=YEARLY;BYMONTH=10;BYDAY=-1SU
END:STANDARD
END:VTIMEZONE
BEGIN:VEVENT
UID:2485226:Event:2949023
DTSTAMP:20260424T225416Z
SUMMARY:Conférence: comment se libérer et retrouver sa force,pour av
 ancer sur le chemin de l'élévation
DESCRIPTION:Conférence comment se libérer et retrouver sa force, pou
 r avancer sur le chemin de l'élévation par Léo Montoro - Vendredi 4
  mai 2018 de 10h00 à 12h00\n\nPourquoi ceux qui sont sur le chemin de
  l'élévation sont-ils fatigués, usés ou démoralisés? Quels sont 
 les nouveaux phénomènes, à l'intérieur et à l'extérieur de nous,
  à l'origine de nos difficultés? Pourquoi les changements sont-ils s
 i difficiles? Quels sont les outils les plus simples, pour nous nettoy
 er, nous harmoniser et nous protéger, en permanence et en toute indé
 pendance? Quels sont, aujourd'hui, les outils les plus efficaces, pour
  nous permettre de nous libérer et ainsi, d'avancer vite et en toute 
 sérénité sur le chemin de l'élévation? \n\nLEO MONTORO est spéc
 ialiste de l'inconscient et de la biologie quantique. Sur un autre pla
 n, il a pour mission de donner la connaissance aux personnes sur le ch
 emin de l'élévation. Formateur et conférencier, il est le créateur
  du DPI (Décodage des Programmations Inconscientes), de la BIO.LOGIQU
 E QUANTIQUE et des cartes YO QUANTIC. Il est expert en GEOBIOLOGIE et 
 en FENG-SHUI. \nParticipation 5€ Places limitées \nRéservations 
 Nadège 06.23.01.35.96 larcencieldupartage@gmail.com \n Lieu : L'arc
  en ciel du partage 1 rue garancière 11100 narbonne\n\nPour plus d'in
 formation, aller sur https://epanews.fr/events/conf-rence-comment-se-l
 ib-rer-et-retrouver-sa-force-pour-avancer
DTSTART;TZID=Europe/Paris:20180504T100000
DTEND;TZID=Europe/Paris:20180504T120000
CATEGORIES:11
LOCATION:NARBONNE
WEBSITE:http://www.larcencieldupartage.org
URL:http://www.larcencieldupartage.org
CONTACT:0623013596
ORGANIZER;CN="L'arc en ciel du partage":https://epanews.fr/profile/Lar
 cencieldupartage
ATTACH;FMTTYPE="image/jpeg":http://storage.ning.com/topology/rest/1.0/
 file/get/1663733059?profile=original
ATTENDEE;ROLE=REQ-PARTICIPANT;PARTSTAT=ACCEPTED;RSVP=TRUE;CN="L'arc en
  ciel du partage":https://epanews.fr/profile/Larcencieldupartage
END:VEVENT
END:VCALENDAR
