BEGIN:VCALENDAR
PRODID:NingEventWidget-v1
VERSION:2.0
METHOD:PUBLISH
BEGIN:VTIMEZONE
TZID:Europe/Paris
X-LIC-LOCATION:Europe/Paris
BEGIN:DAYLIGHT
TZOFFSETFROM:+0100
TZOFFSETTO:+0200
TZNAME:CEST
DTSTART:19700329T020000
RRULE:FREQ=YEARLY;BYMONTH=3;BYDAY=-1SU
END:DAYLIGHT
BEGIN:STANDARD
TZOFFSETFROM:+0200
TZOFFSETTO:+0100
TZNAME:CET
DTSTART:19701025T030000
RRULE:FREQ=YEARLY;BYMONTH=10;BYDAY=-1SU
END:STANDARD
END:VTIMEZONE
BEGIN:VEVENT
UID:2485226:Event:3067055
DTSTAMP:20260426T061624Z
SUMMARY:Conférence Comment se libérer de nos traumatismes
DESCRIPTION:Conférence Comment se libérer de nos traumatismes par Ja
 cqueline Bach\n\nConférence Comment se libérer de nos traumatismes p
 ar Jacqueline BachCONFERENCE EN VISIO + PRESENTIELCette technique issu
 e de la PNL, de l'EMDR, de l'hypnoseEricksonienne est une technique pu
 issante, rapide etefficace qui déprogramme définitivement les émoti
 onsnégatives présentes . Avant chaque séance, afin de vous mettre e
 n situation de lâcher prise, je pratique un soin Access Bars.En amont
  de la séance, on étudie ensemble votre Histoire de naissance, afin 
 de comprendre l'impact qu'elle a eu sur votre vie actuelle, et ainsi p
 ouvoir dénouer encore plus vite et se libérer de nos traumatismes.De
 uils insurmontables / Tristesse - ColèresPeurs - Phobies - Tocs / Man
 que de confiance en soiEchecs - Répétitions / Dépressions - angoiss
 esTroubles du sommeil / Addictionset bien d'autres choses encoreTous c
 es maux qui font des ravages dans notre vieInterprétation des testsPa
 rticipation 5€ - inscription validée à réception du paiement de l
 'entrée -DEMANDER LE LIEN PAIEMENTInscription au 06.23.01.35.96 Nadè
 ge ou larcencieldupartage@gmail.com\n\nPour plus d'information, aller 
 sur https://epanews.fr/events/conf-rence-comment-se-lib-rer-de-nos-tra
 umatismes-11
DTSTART;TZID=Europe/Paris:20200917T183000
DTEND;TZID=Europe/Paris:20200917T200000
CATEGORIES:11
LOCATION:l'arc en ciel du partage
WEBSITE:http://www.larcencieldupartage.org
URL:http://www.larcencieldupartage.org
CONTACT:0623013596
ORGANIZER;CN="L'arc en ciel du partage":https://epanews.fr/profile/Lar
 cencieldupartage
ATTACH;FMTTYPE="image/jpeg":https://storage.ning.com/topology/rest/1.0
 /file/get/6986361455?profile=original
ATTENDEE;ROLE=REQ-PARTICIPANT;PARTSTAT=ACCEPTED;RSVP=TRUE;CN="L'arc en
  ciel du partage":https://epanews.fr/profile/Larcencieldupartage
END:VEVENT
END:VCALENDAR
