BEGIN:VCALENDAR
PRODID:NingEventWidget-v1
VERSION:2.0
METHOD:PUBLISH
BEGIN:VTIMEZONE
TZID:Europe/Paris
X-LIC-LOCATION:Europe/Paris
BEGIN:DAYLIGHT
TZOFFSETFROM:+0100
TZOFFSETTO:+0200
TZNAME:CEST
DTSTART:19700329T020000
RRULE:FREQ=YEARLY;BYMONTH=3;BYDAY=-1SU
END:DAYLIGHT
BEGIN:STANDARD
TZOFFSETFROM:+0200
TZOFFSETTO:+0100
TZNAME:CET
DTSTART:19701025T030000
RRULE:FREQ=YEARLY;BYMONTH=10;BYDAY=-1SU
END:STANDARD
END:VTIMEZONE
BEGIN:VEVENT
UID:2485226:Event:2851626
DTSTAMP:20260420T140436Z
SUMMARY:Conférence : Comment créer mon projet de vie grâce aux 4 h
 ros intérieurs
DESCRIPTION:animé par Christophe Peiffer\n● Avez-vous ce sentiment 
 de ne pas être complètement en accord entre ce que vous faites et q
 ui vous êtes ?\n​\n● Avez-vous l’impression que le chemin que v
 ous suivez depuis 1 an, 5 ans, 10 ans voire plus, n’est pas vraimen
 t celui que vous avez choisi mais qu’ON a choisi pour vous (vos par
 ents, vos amis, votre conjoint, vos professeurs, la société, etc.) ?
 \n​\n● Entendez-vous souvent cette petite voix intérieure qui vou
 s murmure à l’oreille que vous êtes destiné à autre chose ?\n
 \n● Vous êtes-vous déjà demandé ce que pourrait être votre vie
  s’il n’y avait pas tous ces « SI » devant chacune de vos excus
 es : SI j’avais plus d’argent, SI j’avais plus de temps, SI j
 étais plus diplômé, SI je n’étais pas marié, SI mes enfants é
 taient plus grands, SI j’avais plus de confiance en moi, etc.\n​S
 i vous avez répondu OUI à au moins l’une de ces questions, alors c
 ette conférence-atelier est faite pour vous.\n\nPour plus d'informat
 ion, aller sur https://epanews.fr/events/conf-rence-comment-cr-er-mon-
 projet-de-vie-gr-ce-aux-4-h-ros-int
DTSTART;TZID=Europe/Paris:20170926T193000
DTEND;TZID=Europe/Paris:20170926T223000
CATEGORIES:06
LOCATION:Espace Aloha
WEBSITE:http://www.espacealoha.net
URL:http://www.espacealoha.net
CONTACT:06 25 29 51 87
ORGANIZER;CN="Espace Aloha":https://epanews.fr/profile/EspaceAloha
ATTACH;FMTTYPE="image/jpeg":
ATTENDEE;ROLE=REQ-PARTICIPANT;PARTSTAT=ACCEPTED;RSVP=TRUE;CN="Espace A
 loha":https://epanews.fr/profile/EspaceAloha
END:VEVENT
END:VCALENDAR
