BEGIN:VCALENDAR
PRODID:NingEventWidget-v1
VERSION:2.0
METHOD:PUBLISH
BEGIN:VTIMEZONE
TZID:Europe/Paris
X-LIC-LOCATION:Europe/Paris
BEGIN:DAYLIGHT
TZOFFSETFROM:+0100
TZOFFSETTO:+0200
TZNAME:CEST
DTSTART:19700329T020000
RRULE:FREQ=YEARLY;BYMONTH=3;BYDAY=-1SU
END:DAYLIGHT
BEGIN:STANDARD
TZOFFSETFROM:+0200
TZOFFSETTO:+0100
TZNAME:CET
DTSTART:19701025T030000
RRULE:FREQ=YEARLY;BYMONTH=10;BYDAY=-1SU
END:STANDARD
END:VTIMEZONE
BEGIN:VEVENT
UID:2485226:Event:2811554
DTSTAMP:20260420T165608Z
SUMMARY:Conference Comment changer de vie, S'affranchir de la peur, Qu
 i suis-je?
DESCRIPTION:Inscription obligatoire auprès de Source du bonheur au 06
  77 16 31 11  Participation 20€  Conférence animée par Stan Carre
 y, conférencier et écrivain.   Il souhaite aborder des thèmes impo
 rtants à ses yeux, de façon concrète, simple, vraie. Son but est de
  transmettre ce qu' il a compris en observant la marche de l'univers e
 t l'esprit humain, afin d'aider chacun à s'affranchir de tout conditi
 onnement, et à accomplir son plein potentiel. \"  Durant cet après-m
 idi, les sujets suivants seront abordés, expliqués et approfondis : 
  - Comment changer de vie Qu'est-ce que notre vie? Qu'est-ce que l'exi
 stence? Quelle place occupons-nous dans le monde?  - S'affranchir de l
 a peur Qu'est ce qui fait peur? Qu'est-ce que la peur et comment s'en 
 débarrasser ? Comment fonctionne le mental? Comment apaiser le flot d
 es pensées?  - Qui suis-je? Comment savoir qui je suis réellement, e
 n contraste avec mes croyances? Quelle est mon identité?\n\nPour plus
  d'information, aller sur https://epanews.fr/events/conf-rence-comment
 -changer-de-vie-s-affranchir-de-la-peur-qui
DTSTART;TZID=Europe/Paris:20170617T140000
DTEND;TZID=Europe/Paris:20170617T170000
CATEGORIES:34
LOCATION:montpellier centre
WEBSITE:http://www.sourcedubonheur.fr
URL:http://www.sourcedubonheur.fr
CONTACT:0677163111
ORGANIZER;CN=sb34:https://epanews.fr/profile/sb34
ATTACH;FMTTYPE="image/jpeg":http://storage.ning.com/topology/rest/1.0/
 file/get/1663661935?profile=original
ATTENDEE;ROLE=REQ-PARTICIPANT;PARTSTAT=ACCEPTED;RSVP=TRUE;CN=sb34:http
 s://epanews.fr/profile/sb34
END:VEVENT
END:VCALENDAR
