BEGIN:VCALENDAR
PRODID:NingEventWidget-v1
VERSION:2.0
METHOD:PUBLISH
BEGIN:VTIMEZONE
TZID:Europe/Paris
X-LIC-LOCATION:Europe/Paris
BEGIN:DAYLIGHT
TZOFFSETFROM:+0100
TZOFFSETTO:+0200
TZNAME:CEST
DTSTART:19700329T020000
RRULE:FREQ=YEARLY;BYMONTH=3;BYDAY=-1SU
END:DAYLIGHT
BEGIN:STANDARD
TZOFFSETFROM:+0200
TZOFFSETTO:+0100
TZNAME:CET
DTSTART:19701025T030000
RRULE:FREQ=YEARLY;BYMONTH=10;BYDAY=-1SU
END:STANDARD
END:VTIMEZONE
BEGIN:VEVENT
UID:2485226:Event:2619435
DTSTAMP:20260422T111027Z
SUMMARY:ConfÃ©rence Claude LEFEBVRE vivre sur la Terre comme au Ciel
DESCRIPTION:VIVRE SUR LA TERRE COMME AU CIELÂ Â  LES HABITANTS D'ICI &
  DE L'AU- DELA - COMMUNIQUER AVEC LES 3 MONDES  AvecÂ Claude LEFEBVREÂ
  , parapsychologue, enseignant en communication avec les plantes, arbr
 es et animaux. Auteur du LIVRE DES PLANTES, initiation Ã  la sagesse v
 Ã©gÃ©tale.\n\nPour plus d'information, aller sur https://epanews.fr/ev
 ents/conf-rence-claude-lefebvre-vivre-sur-la-terre-comme-au-ciel-1
DTSTART;TZID=Europe/Paris:20160406T200000
DTEND;TZID=Europe/Paris:20160406T220000
CATEGORIES:26
LOCATION:Romans sur IsÃ¨re
WEBSITE:http://www.planetaiire.net/topic/index.html
URL:http://www.planetaiire.net/topic/index.html
CONTACT:09.54.69.62.11
ORGANIZER;CN="Association Planet'aiire":https://epanews.fr/profile/Ass
 ociationPlanetaiire
ATTACH;FMTTYPE="image/jpeg":http://storage.ning.com/topology/rest/1.0/
 file/get/1663554934?profile=original
ATTENDEE;ROLE=REQ-PARTICIPANT;PARTSTAT=ACCEPTED;RSVP=TRUE;CN="Associat
 ion Planet'aiire":https://epanews.fr/profile/AssociationPlanetaiire
END:VEVENT
END:VCALENDAR
