BEGIN:VCALENDAR
PRODID:NingEventWidget-v1
VERSION:2.0
METHOD:PUBLISH
BEGIN:VTIMEZONE
TZID:Europe/Paris
X-LIC-LOCATION:Europe/Paris
BEGIN:DAYLIGHT
TZOFFSETFROM:+0100
TZOFFSETTO:+0200
TZNAME:CEST
DTSTART:19700329T020000
RRULE:FREQ=YEARLY;BYMONTH=3;BYDAY=-1SU
END:DAYLIGHT
BEGIN:STANDARD
TZOFFSETFROM:+0200
TZOFFSETTO:+0100
TZNAME:CET
DTSTART:19701025T030000
RRULE:FREQ=YEARLY;BYMONTH=10;BYDAY=-1SU
END:STANDARD
END:VTIMEZONE
BEGIN:VEVENT
UID:2485226:Event:2465985
DTSTAMP:20260422T025641Z
SUMMARY:Conférence-échange autour du livre \"La maladie guérit\"
DESCRIPTION:La maladie guérit – ce qui semble être un paradoxe à 
 première vue, révèle un message d’espoir pour ceux qui sont conce
 rnés par la maladie. Kerstin Chavent, formatrice en communication, pa
 rle de son expérience d’un cancer du sein. Elle écoute le message 
 de son corps et regarde ce qui fait mal pour le transformer en quelque
  chose de plus lumineux….\n\nPour plus d'information, aller sur http
 s://epanews.fr/events/conf-rence-change-autour-du-livre-la-maladie-gu-
 rit
DTSTART;TZID=Europe/Paris:20151103T183000
DTEND;TZID=Europe/Paris:20151103T200000
CATEGORIES:34
LOCATION:Paulhan, salle des fêtes
WEBSITE:
URL:
CONTACT:04 67 90 28 18
ORGANIZER:L'association Ecoute et Formation
ATTACH;FMTTYPE="image/jpeg":http://storage.ning.com/topology/rest/1.0/
 file/get/1663477858?profile=original
ATTENDEE;ROLE=REQ-PARTICIPANT;PARTSTAT=ACCEPTED;RSVP=TRUE;CN=Kerstin:h
 ttps://epanews.fr/profile/Kerstin
END:VEVENT
END:VCALENDAR
