BEGIN:VCALENDAR
PRODID:NingEventWidget-v1
VERSION:2.0
METHOD:PUBLISH
BEGIN:VTIMEZONE
TZID:Europe/Paris
X-LIC-LOCATION:Europe/Paris
BEGIN:DAYLIGHT
TZOFFSETFROM:+0100
TZOFFSETTO:+0200
TZNAME:CEST
DTSTART:19700329T020000
RRULE:FREQ=YEARLY;BYMONTH=3;BYDAY=-1SU
END:DAYLIGHT
BEGIN:STANDARD
TZOFFSETFROM:+0200
TZOFFSETTO:+0100
TZNAME:CET
DTSTART:19701025T030000
RRULE:FREQ=YEARLY;BYMONTH=10;BYDAY=-1SU
END:STANDARD
END:VTIMEZONE
BEGIN:VEVENT
UID:2485226:Event:921764
DTSTAMP:20260419T232247Z
SUMMARY:ConfÃ©rence \"\" Chamanisme, Pouvoir d'ÃŠtre et Roue de MÃ©dec
 ines\"\"
DESCRIPTION:Vouloir Ã©voluer et progresser est inhÃ©rent Ã  lâ€™Ãªtre 
 humain. MÃªme sâ€™il ne le perÃ§oit pas clairement, ce quâ€™il peut fa
 ire pour se sentir au mieux dans son corps physique et sa recherche de
  ce quâ€™il est sensÃ© Ãªtre et rÃ©aliser dans le monde participent au
  mÃªme mouvement : l'expansion de sa conscience. Cette derniÃ¨re dÃ©te
 rmine son Â«Â Pouvoir dâ€™ÃŠtreÂ Â», la signature spÃ©cifique inimitab
 le qu'il imprimera au cÅ“ur de ses actes les plus infimes.\nLâ€™intent
 ion de la confÃ©rence sera dâ€™aborder les facteurs qui influent sur l
 â€™expression de ce pouvoir. Un Ã©clairage Ã©nergÃ©tique particulier s
 era donnÃ© sur les apports des enseignements et pratiques chamaniques 
 selon lâ€™approche toltÃ¨que â€“ notamment de la Roue de MÃ©decines â€
 “ et sur la maniÃ¨re de les utiliser de nos jours dans une dÃ©marche d
 e dÃ©veloppement personnelâ€¦\nLa confÃ©rence sera suivie d'un atelier
 -dÃ©couverte le samedi 13 octobre de 10h Ã  17h . Participation: 60â‚¬
 \nRenseignements au 0644981772\n\nPour plus d'information, aller sur h
 ttps://epanews.fr/events/conf-rence-chamanisme-pouvoir-d-tre-et-roue-d
 e-m-decines
DTSTART;TZID=Europe/Paris:20121012T200000
DTEND;TZID=Europe/Paris:20121012T220000
CATEGORIES:69
LOCATION:Lyon
WEBSITE:
URL:
CONTACT:0565216774 et 0644981772
ORGANIZER;CN="Michel BERNARD":https://epanews.fr/profile/MichelBERNARD
ATTACH;FMTTYPE="image/jpeg":http://storage.ning.com/topology/rest/1.0/
 file/get/1662655648?profile=original
ATTENDEE;ROLE=REQ-PARTICIPANT;PARTSTAT=ACCEPTED;RSVP=TRUE;CN="Michel B
 ERNARD":https://epanews.fr/profile/MichelBERNARD
END:VEVENT
END:VCALENDAR
