BEGIN:VCALENDAR
PRODID:NingEventWidget-v1
VERSION:2.0
METHOD:PUBLISH
BEGIN:VTIMEZONE
TZID:Europe/Paris
X-LIC-LOCATION:Europe/Paris
BEGIN:DAYLIGHT
TZOFFSETFROM:+0100
TZOFFSETTO:+0200
TZNAME:CEST
DTSTART:19700329T020000
RRULE:FREQ=YEARLY;BYMONTH=3;BYDAY=-1SU
END:DAYLIGHT
BEGIN:STANDARD
TZOFFSETFROM:+0200
TZOFFSETTO:+0100
TZNAME:CET
DTSTART:19701025T030000
RRULE:FREQ=YEARLY;BYMONTH=10;BYDAY=-1SU
END:STANDARD
END:VTIMEZONE
BEGIN:VEVENT
UID:2485226:Event:1802280
DTSTAMP:20260422T100709Z
SUMMARY:ConfÃ©rence Bernard ClaviÃ¨re sur les moyens naturels de santÃ
 ©
DESCRIPTION:ConfÃ©rence de Bernard ClaviÃ¨re sur les moyens naturels d
 e santÃ© : ils peuvent Ãªtre simples, sans effets secondaires, gratuit
 s ou trÃ¨s bon marchÃ©, et si efficaces !\n\nPour plus d'information, 
 aller sur https://epanews.fr/events/conf-rence-bernard-claviere-sur-le
 s-moyens-naturels-de-sant
DTSTART;TZID=Europe/Paris:20140302T130000
DTEND;TZID=Europe/Paris:20140302T140000
CATEGORIES:33
LOCATION:Parc Expo la Teste de Buch Arcachon
WEBSITE:http://www.parcexpo-bassinarcachon.com/visiteur_plan.html
URL:http://www.parcexpo-bassinarcachon.com/visiteur_plan.html
CONTACT:0556711740
ORGANIZER:Association Nature et Partage
ATTACH;FMTTYPE="image/jpeg":http://storage.ning.com/topology/rest/1.0/
 file/get/1663070473?profile=original
ATTENDEE;ROLE=REQ-PARTICIPANT;PARTSTAT=ACCEPTED;RSVP=TRUE;CN="Serge Se
 rge":https://epanews.fr/profile/sergeserge
ATTENDEE;ROLE=REQ-PARTICIPANT;PARTSTAT=ACCEPTED;RSVP=TRUE;CN="Docteur 
 Nature":https://epanews.fr/profile/DocteurNature
END:VEVENT
END:VCALENDAR
