BEGIN:VCALENDAR
PRODID:NingEventWidget-v1
VERSION:2.0
METHOD:PUBLISH
BEGIN:VTIMEZONE
TZID:Europe/Paris
X-LIC-LOCATION:Europe/Paris
BEGIN:DAYLIGHT
TZOFFSETFROM:+0100
TZOFFSETTO:+0200
TZNAME:CEST
DTSTART:19700329T020000
RRULE:FREQ=YEARLY;BYMONTH=3;BYDAY=-1SU
END:DAYLIGHT
BEGIN:STANDARD
TZOFFSETFROM:+0200
TZOFFSETTO:+0100
TZNAME:CET
DTSTART:19701025T030000
RRULE:FREQ=YEARLY;BYMONTH=10;BYDAY=-1SU
END:STANDARD
END:VTIMEZONE
BEGIN:VEVENT
UID:2485226:Event:2658712
DTSTAMP:20260422T182242Z
SUMMARY:Conférence avec Marie Lise Labonté \"Faire l'Amour avec Amou
 r\"
DESCRIPTION:Pour la sortie de son dernier livre, qui est en cours, \"
 Faire l'Amour avec Amour\", aux éditions Trédaniel, Marie Lise Labo
 nté animera une conférence exceptionnelle dans notre belle ville 
 de Lyon.\n \n\"Réunir amour et sexualité est un processus d’indiv
 iduation. Cela nous amène à l’amour de soi, de son corps, de son 
 cœur et de sa propre énergie sexuelle avant toute chose.\n \nL’am
 our n’est pas séparé de la sexualité et la sexualité de l’amou
 r.\nSi je suis en moi profondément relié à ma force sexuelle et à 
 l’amour, je peux faire l’amour avec amour.\nEn revanche, si en moi
 , je suis séparé, si j’ai établi des barrières dans mon corps, d
 ans mon sexe et dans mon cœur, comment puis-je aimer en faisant l’a
 mour ? Si je ne m’aime pas, comment puis-je aimer ? Comment puis-je 
 vivre ma sexualité en union avec moi-même et l’autre ?\"\n \nMari
 e Lise vous donnera des pistes et répondra à vos questions en fin d
 e conférence.\n \nUne séance de dédicaces clôturera la soirée.\
 n\nPour plus d'information, aller sur https://epanews.fr/events/conf-r
 ence-avec-marie-lise-labont-faire-l-amour-avec-amour
DTSTART;TZID=Europe/Paris:20161206T200000
DTEND;TZID=Europe/Paris:20161206T220000
CATEGORIES:69
LOCATION:Espace Ouest Lyonnais
WEBSITE:http://www.lezarts-zen.com/evenements-bien-etre/conferences-bi
 en-etre/evenements-bien-etre/lezarts-zen/conference/faire-l-amour-avec
 -amour-l-union-sacree-du-coeur-et-de-la-sexualite
URL:http://www.lezarts-zen.com/evenements-bien-etre/conferences-bien-e
 tre/evenements-bien-etre/lezarts-zen/conference/faire-l-amour-avec-amo
 ur-l-union-sacree-du-coeur-et-de-la-sexualite
CONTACT:0781731896
ORGANIZER;CN="LeZarts Zen":https://epanews.fr/profile/LeZartsZen
ATTACH;FMTTYPE="image/jpeg":http://storage.ning.com/topology/rest/1.0/
 file/get/1663571782?profile=original
ATTENDEE;ROLE=REQ-PARTICIPANT;PARTSTAT=ACCEPTED;RSVP=TRUE;CN="LeZarts 
 Zen":https://epanews.fr/profile/LeZartsZen
ATTENDEE;ROLE=REQ-PARTICIPANT;PARTSTAT=TENTATIVE;RSVP=TRUE;CN="le prin
 ce":https://epanews.fr/profile/leprince
END:VEVENT
END:VCALENDAR
