BEGIN:VCALENDAR
PRODID:NingEventWidget-v1
VERSION:2.0
METHOD:PUBLISH
BEGIN:VTIMEZONE
TZID:Europe/Paris
X-LIC-LOCATION:Europe/Paris
BEGIN:DAYLIGHT
TZOFFSETFROM:+0100
TZOFFSETTO:+0200
TZNAME:CEST
DTSTART:19700329T020000
RRULE:FREQ=YEARLY;BYMONTH=3;BYDAY=-1SU
END:DAYLIGHT
BEGIN:STANDARD
TZOFFSETFROM:+0200
TZOFFSETTO:+0100
TZNAME:CET
DTSTART:19701025T030000
RRULE:FREQ=YEARLY;BYMONTH=10;BYDAY=-1SU
END:STANDARD
END:VTIMEZONE
BEGIN:VEVENT
UID:2485226:Event:2240185
DTSTAMP:20260423T122830Z
SUMMARY:Conférence avec Conrad
DESCRIPTION:L'association \"Les Joyaux Sacrés\" accueillera Conrad, p
 our une conférence sur la conscience...\nCet homme nous fera l'honneu
 r de sa présence le vendredi 10 avril sur la commune de Viriville. Pl
 us de renseignements sur l'affiche.\nRéservation en ligne. Places lim
 itées.\nN'hésitez pas à nous contacter pour plus de renseignements.
 \n\nPour plus d'information, aller sur https://epanews.fr/events/conf-
 rence-avec-conrad-sur-la-conscience
DTSTART;TZID=Europe/Paris:20150410T190000
DTEND;TZID=Europe/Paris:20150410T220000
CATEGORIES:38
LOCATION:Viriville
WEBSITE:http://www.lesjoyauxsacres.com
URL:http://www.lesjoyauxsacres.com
CONTACT:
ORGANIZER:Les Joyaux Sacrés
ATTACH;FMTTYPE="image/jpeg":http://storage.ning.com/topology/rest/1.0/
 file/get/1663337561?profile=original
ATTENDEE;ROLE=REQ-PARTICIPANT;PARTSTAT=ACCEPTED;RSVP=TRUE;CN=Amalia:ht
 tps://epanews.fr/profile/Amalia110
END:VEVENT
END:VCALENDAR
