BEGIN:VCALENDAR
PRODID:NingEventWidget-v1
VERSION:2.0
METHOD:PUBLISH
BEGIN:VTIMEZONE
TZID:Europe/Paris
X-LIC-LOCATION:Europe/Paris
BEGIN:DAYLIGHT
TZOFFSETFROM:+0100
TZOFFSETTO:+0200
TZNAME:CEST
DTSTART:19700329T020000
RRULE:FREQ=YEARLY;BYMONTH=3;BYDAY=-1SU
END:DAYLIGHT
BEGIN:STANDARD
TZOFFSETFROM:+0200
TZOFFSETTO:+0100
TZNAME:CET
DTSTART:19701025T030000
RRULE:FREQ=YEARLY;BYMONTH=10;BYDAY=-1SU
END:STANDARD
END:VTIMEZONE
BEGIN:VEVENT
UID:2485226:Event:2288875
DTSTAMP:20260423T000030Z
SUMMARY:conférence atelier \"yoga du visage & voyelles sacrées\"
DESCRIPTION:Conférence atelier \"Yoga du visage & Voyelles sacrées\"
  par Alain Penichot, Auteur-Consultant-Formateur    #\nle mercredi 2
 7 Mai 2015 à 19h30    #\nLe visage est la partie du corps la plus e
 xposée , zone réflexe par excellence. Souveraine des cinq sens visio
 n, audition, olfaction, gout et toucher. Nous découvrirons comment in
 ter-agisse les mouvements de gymnastique faciale avec les émotions li
 ées au caractére, les points d'énergie basés sur l'acupression.Nou
 s libérerons des émotions dites négatives, activant la fluidité du
  systéme nerveux, les auto-massages permettant une régénération pr
 ofonde des tissus de la peau renforcant ainsi le processus de mémoire
  .    #Les voyelles sacrées ! 5 sons pour se ré-enchanter!, ré-en
 chanter sa vie , accéder au visage vibratoire grace aux sons!. Nous 
 ferons de cette exploration une subtile découverte de notre visage in
 térieur!   #\n\nParticipation 10€\n \nRéservation Nadège 06.23.
 01.35.96  ou larcencieldupartage@sfr.fr     #\n \nL'arc en ciel du
  Partage   #\n1 rue garancière    #\n11100 narbonne    #\nwww.la
 rcencieldupartage.org    #\n\nPour plus d'information, aller sur htt
 ps://epanews.fr/events/conf-rence-atelier-yoga-du-visage-voyelles-sacr
 -es
DTSTART;TZID=Europe/Paris:20150527T193000
DTEND;TZID=Europe/Paris:20150527T210000
CATEGORIES:11
LOCATION:narbonne
WEBSITE:http://www.larcencieldupartage.org
URL:http://www.larcencieldupartage.org
CONTACT:0623013596
ORGANIZER;CN="L'arc en ciel du partage":https://epanews.fr/profile/Lar
 cencieldupartage
ATTACH;FMTTYPE="image/jpeg":http://storage.ning.com/topology/rest/1.0/
 file/get/1663372834?profile=original
ATTENDEE;ROLE=REQ-PARTICIPANT;PARTSTAT=ACCEPTED;RSVP=TRUE;CN="L'arc en
  ciel du partage":https://epanews.fr/profile/Larcencieldupartage
END:VEVENT
END:VCALENDAR
