BEGIN:VCALENDAR
PRODID:NingEventWidget-v1
VERSION:2.0
METHOD:PUBLISH
BEGIN:VTIMEZONE
TZID:Europe/Paris
X-LIC-LOCATION:Europe/Paris
BEGIN:DAYLIGHT
TZOFFSETFROM:+0100
TZOFFSETTO:+0200
TZNAME:CEST
DTSTART:19700329T020000
RRULE:FREQ=YEARLY;BYMONTH=3;BYDAY=-1SU
END:DAYLIGHT
BEGIN:STANDARD
TZOFFSETFROM:+0200
TZOFFSETTO:+0100
TZNAME:CET
DTSTART:19701025T030000
RRULE:FREQ=YEARLY;BYMONTH=10;BYDAY=-1SU
END:STANDARD
END:VTIMEZONE
BEGIN:VEVENT
UID:2485226:Event:792225
DTSTAMP:20260421T215801Z
SUMMARY:Conférence-Atelier \"Santé par le Toucher en famille\"
DESCRIPTION:Enthousiasmée par la méthode de bien-être global Santé
  par le Toucher et son application dans la vie de tous les jours, je s
 uis impatiente de transmettre!Pour cette raison je vous propose une co
 nférence-atelier intitulée \"Santé Par le Toucher en famille\". Je
  vous présenterai à cette occasion des outils simples d'utilisation 
 nous permettant d'évacuer nos stress.Santé par le Toucher c'est retr
 ouver le pouvoir sur sa santé, s'aider soi-même et pouvoir égalemen
 t en faire profiter son entourage! Public: enfants, adolescents, adul
 tes\nMonique Combe Kinésiologue spécialisée\nInstructrice TFH-IKC\n
 \nPour plus d'information, aller sur https://epanews.fr/events/conf-re
 nce-atelier-sant-par-le-toucher-en-famille
DTSTART;TZID=Europe/Paris:20120519T180000
DTEND;TZID=Europe/Paris:20120519T190000
CATEGORIES:13
LOCATION:Forum Nature
WEBSITE:http://provencekinesiologie.free.fr
URL:http://provencekinesiologie.free.fr
CONTACT:06 75 86 04 88
ORGANIZER;CN="monique combe":https://epanews.fr/profile/moniquecombe
ATTACH;FMTTYPE="image/jpeg":http://storage.ning.com/topology/rest/1.0/
 file/get/1662601687?profile=original
ATTENDEE;ROLE=REQ-PARTICIPANT;PARTSTAT=ACCEPTED;RSVP=TRUE;CN="monique 
 combe":https://epanews.fr/profile/moniquecombe
END:VEVENT
END:VCALENDAR
