BEGIN:VCALENDAR
PRODID:NingEventWidget-v1
VERSION:2.0
METHOD:PUBLISH
BEGIN:VTIMEZONE
TZID:Europe/Paris
X-LIC-LOCATION:Europe/Paris
BEGIN:DAYLIGHT
TZOFFSETFROM:+0100
TZOFFSETTO:+0200
TZNAME:CEST
DTSTART:19700329T020000
RRULE:FREQ=YEARLY;BYMONTH=3;BYDAY=-1SU
END:DAYLIGHT
BEGIN:STANDARD
TZOFFSETFROM:+0200
TZOFFSETTO:+0100
TZNAME:CET
DTSTART:19701025T030000
RRULE:FREQ=YEARLY;BYMONTH=10;BYDAY=-1SU
END:STANDARD
END:VTIMEZONE
BEGIN:VEVENT
UID:2485226:Event:787619
DTSTAMP:20260422T040021Z
SUMMARY:Festival Les Nouveaux Mondes - Conférence/Atelier « Retrouve
 r en soi la notion d’Équilibre Fondamental avec la bio-music» avec
  J-L Fargier
DESCRIPTION:Dimanche 8 Juillet 2012 de 10h à 13h00  au Centre Culture
 l Avenue Agostini, Cassis 13260 Tel : 04 42 01 77 73  Conférence/Atel
 ier « Retrouver en soi la notion d’Équilibre Fondamental avec la b
 io-music»   présentant un procédé innovant basé sur la création 
 originale de « Champs Uniformes d’Ondes Sonores » (CUOS) aux effet
 s bénéfiques rééquilibrant, revitalisant et anti-stress pour tous 
 les êtres vivants (humains, animaux, plantes).  La conférence expliq
 ue la science derrière ce procédé ainsi que son utilisation. L’at
 elier d’ « écoute consciente » permet d’en faire l’expérienc
 e pratique.  Présenté par Jean-Louis Fargier, auteur-compositeur et 
 producteur de musique, chercheur autodidacte spécialisé dans l’ét
 ude de l’impact des fréquences sur le monde vivant, co-créateur av
 ec Robert Lissalde du procédé rééquilibrant ondulatoire ‘Bio Mus
 ic 6 en 1’, fondateur et directeur du label Loriana Music (producteu
 r exclusif de la Bio Music 6 en 1).\n\nPour plus d'information, aller 
 sur https://epanews.fr/events/conf-rence-atelier-retrouver-en-soi-la-n
 otion-d-quilibre
DTSTART;TZID=Europe/Paris:20120708T100000
DTEND;TZID=Europe/Paris:20120708T130000
CATEGORIES:tous
LOCATION:Cassis
WEBSITE:http://associationlesnouveauxmondes.com/
URL:http://associationlesnouveauxmondes.com/
CONTACT:06 64 41 57 79
ORGANIZER;CN="Association Les Nouveaux Mondes":https://epanews.fr/prof
 ile/AssociationLesNouveauxMondes
ATTACH;FMTTYPE="image/jpeg":http://storage.ning.com/topology/rest/1.0/
 file/get/1662600534?profile=original
ATTENDEE;ROLE=REQ-PARTICIPANT;PARTSTAT=ACCEPTED;RSVP=TRUE;CN="Associat
 ion Les Nouveaux Mondes":https://epanews.fr/profile/AssociationLesNouv
 eauxMondes
END:VEVENT
END:VCALENDAR
