BEGIN:VCALENDAR
PRODID:NingEventWidget-v1
VERSION:2.0
METHOD:PUBLISH
BEGIN:VTIMEZONE
TZID:Europe/Paris
X-LIC-LOCATION:Europe/Paris
BEGIN:DAYLIGHT
TZOFFSETFROM:+0100
TZOFFSETTO:+0200
TZNAME:CEST
DTSTART:19700329T020000
RRULE:FREQ=YEARLY;BYMONTH=3;BYDAY=-1SU
END:DAYLIGHT
BEGIN:STANDARD
TZOFFSETFROM:+0200
TZOFFSETTO:+0100
TZNAME:CET
DTSTART:19701025T030000
RRULE:FREQ=YEARLY;BYMONTH=10;BYDAY=-1SU
END:STANDARD
END:VTIMEZONE
BEGIN:VEVENT
UID:2485226:Event:1635868
DTSTAMP:20260424T025759Z
SUMMARY:Conférence atelier \"Rencontrer son ange avec l'asrologie 4D\
 "
DESCRIPTION:\nHubert Brun nous fait le plaisir de venir présenter son
  dernier ouvrage, et d'animer une journée dédiée à « l'Astrologie
  4D »\nhttp://www.scarabelli.org/Hubert_Brun-Astro4D.html\nAttention 
 : Clôture des inscriptions le 21 novembre !\n\n\n\n\n\n\nLieu : La me
 zzanine du bar « Le Wengé » - Hôtel Concorde-Montparnasse ****Plac
 e de Catalogne (entrée par le 40 rue du Commandant Mouchotte) - Paris
  14èmeMétros : Gaîté (ligne 13) ou Montparnasse-Bienvenüe (lignes
  6-4-12-13)\n\n\n\n\n\n\n\n\n\nPour plus d'information, aller sur http
 s://epanews.fr/events/conf-rence-atelier-rencontrer-son-ange-avec-l-as
 rologie-4d
DTSTART;TZID=Europe/Paris:20131124T000000
DTEND;TZID=Europe/Paris:20131124T235900
CATEGORIES:75
LOCATION:PARIS 14e Hôtel Concorde-Montparnasse
WEBSITE:http://www.scarabelli.org/Hubert_Brun-Astro4D.html
URL:http://www.scarabelli.org/Hubert_Brun-Astro4D.html
CONTACT:0677692124
ORGANIZER;CN="brun hubert":https://epanews.fr/profile/brunhubert
ATTACH;FMTTYPE="image/jpeg":http://storage.ning.com/topology/rest/1.0/
 file/get/1662972346?profile=original
ATTENDEE;ROLE=REQ-PARTICIPANT;PARTSTAT=ACCEPTED;RSVP=TRUE;CN="brun hub
 ert":https://epanews.fr/profile/brunhubert
END:VEVENT
END:VCALENDAR
