BEGIN:VCALENDAR
PRODID:NingEventWidget-v1
VERSION:2.0
METHOD:PUBLISH
BEGIN:VTIMEZONE
TZID:Europe/Paris
X-LIC-LOCATION:Europe/Paris
BEGIN:DAYLIGHT
TZOFFSETFROM:+0100
TZOFFSETTO:+0200
TZNAME:CEST
DTSTART:19700329T020000
RRULE:FREQ=YEARLY;BYMONTH=3;BYDAY=-1SU
END:DAYLIGHT
BEGIN:STANDARD
TZOFFSETFROM:+0200
TZOFFSETTO:+0100
TZNAME:CET
DTSTART:19701025T030000
RRULE:FREQ=YEARLY;BYMONTH=10;BYDAY=-1SU
END:STANDARD
END:VTIMEZONE
BEGIN:VEVENT
UID:2485226:Event:2184550
DTSTAMP:20260422T154324Z
SUMMARY:Conférence atelier \"Nous, les êtres humains, notre position
 nement dans l’instant présent\"
DESCRIPTION:Conférence-atelier par Colette Salvanez, Thérapeute holi
 stique\n\"Nous, les êtres humains, notre positionnement dans l’inst
 ant présent\"\nSommes-nous à l’école de l’Ame ?\nOù en sommes 
 nous ? … Maternelle, primaire, ….\nY a-t-il une possibilité de r
 edoublement ?\nQue nous enseignent les Grands Maîtres ?\nTous les hum
 ains sont-ils capables de progresser sur un chemin spirituel ?\nTous l
 es humains sont-ils égaux sur le chemin de la conscience ?\nParticipa
 tion 5€\n\nPour plus d'information, aller sur https://epanews.fr/eve
 nts/conf-rence-atelier-nous-les-tres-humains-notre-positionnement-1
DTSTART;TZID=Europe/Paris:20150123T193000
DTEND;TZID=Europe/Paris:20150123T213000
CATEGORIES:11
LOCATION:Narbonne
WEBSITE:http://www.larcencieldupartage.org
URL:http://www.larcencieldupartage.org
CONTACT:0623013596
ORGANIZER;CN="L'arc en ciel du partage":https://epanews.fr/profile/Lar
 cencieldupartage
ATTACH;FMTTYPE="image/jpeg":http://storage.ning.com/topology/rest/1.0/
 file/get/1663300173?profile=original
ATTENDEE;ROLE=REQ-PARTICIPANT;PARTSTAT=ACCEPTED;RSVP=TRUE;CN="L'arc en
  ciel du partage":https://epanews.fr/profile/Larcencieldupartage
END:VEVENT
END:VCALENDAR
