BEGIN:VCALENDAR
PRODID:NingEventWidget-v1
VERSION:2.0
METHOD:PUBLISH
BEGIN:VTIMEZONE
TZID:Europe/Paris
X-LIC-LOCATION:Europe/Paris
BEGIN:DAYLIGHT
TZOFFSETFROM:+0100
TZOFFSETTO:+0200
TZNAME:CEST
DTSTART:19700329T020000
RRULE:FREQ=YEARLY;BYMONTH=3;BYDAY=-1SU
END:DAYLIGHT
BEGIN:STANDARD
TZOFFSETFROM:+0200
TZOFFSETTO:+0100
TZNAME:CET
DTSTART:19701025T030000
RRULE:FREQ=YEARLY;BYMONTH=10;BYDAY=-1SU
END:STANDARD
END:VTIMEZONE
BEGIN:VEVENT
UID:2485226:Event:2624328
DTSTAMP:20260419T224610Z
SUMMARY:Conférence_Atelier l'interprétation des Rêves
DESCRIPTION:Conférence Atelier \"L'INTERPRÉTATION DES RÊVES\". Jeu
 di 14 avril 2016 à 19H30 sur HYÈRES\nPour ceux et celles en quête d
 e réponses en eux-mêmes, je vous propose de participer à cette Conf
 érence-Atelier sur l'interprétation des Rêves. Deux rêves parmi le
 s participants seront tirés au sort et seront questionnés et interpr
 étés en fonction du vécu du rêveur.\nAffiche : http://shoutout.wix
 .com/so/6LFiZ0eN\nPlus d'infos : http://www.reveasoi.com\nPage Faceboo
 k : http://www.facebook/reveasoi\n\n\nPour plus d'information, aller s
 ur https://epanews.fr/events/conf-rence-atelier-l-interpr-tation-des-r
 -ves
DTSTART;TZID=Europe/Paris:20160414T193000
DTEND;TZID=Europe/Paris:20160414T210000
CATEGORIES:83
LOCATION:à 5 mn à pied de la Gare SNCF d'HYÈRES
WEBSITE:http://www.reveasoi.com
URL:http://www.reveasoi.com
CONTACT:0662729717
ORGANIZER;CN="Farida ALIOUANE":https://epanews.fr/profile/Fida
ATTACH;FMTTYPE="image/jpeg":http://storage.ning.com/topology/rest/1.0/
 file/get/1663554826?profile=original
ATTENDEE;ROLE=REQ-PARTICIPANT;PARTSTAT=ACCEPTED;RSVP=TRUE;CN="Farida A
 LIOUANE":https://epanews.fr/profile/Fida
END:VEVENT
END:VCALENDAR
