BEGIN:VCALENDAR
PRODID:NingEventWidget-v1
VERSION:2.0
METHOD:PUBLISH
BEGIN:VTIMEZONE
TZID:Europe/Paris
X-LIC-LOCATION:Europe/Paris
BEGIN:DAYLIGHT
TZOFFSETFROM:+0100
TZOFFSETTO:+0200
TZNAME:CEST
DTSTART:19700329T020000
RRULE:FREQ=YEARLY;BYMONTH=3;BYDAY=-1SU
END:DAYLIGHT
BEGIN:STANDARD
TZOFFSETFROM:+0200
TZOFFSETTO:+0100
TZNAME:CET
DTSTART:19701025T030000
RRULE:FREQ=YEARLY;BYMONTH=10;BYDAY=-1SU
END:STANDARD
END:VTIMEZONE
BEGIN:VEVENT
UID:2485226:Event:2009888
DTSTAMP:20260421T155547Z
SUMMARY:ConfÃ©rence atelier \"InterprÃ©tation des rÃªves - Etre Ã  l'Ã
 ©coute de soi\" par Vincent Pujol, Psychopraticien
DESCRIPTION:ConfÃ©rence -atelier \" InterprÃ©tation des rÃªves - Etre 
 Ã  l'Ã©coute de soi\" par Vincent Pujol, Psychopraticien\nVincent Pujo
 l, Psychopraticien vous prÃ©sente des outils simples et efficaces pour
  dÃ©coder et comprendre les rÃªves.\nRÃªves d'enfant, d'accident, Â de
  sexe, prÃ©monitoire, rÃ©currents Â â€¦ nous regarderons quelles sont 
 leurs significations.\nVenez avec vos aventures nocturnes, un stylo et
  du papier pour mettre en pratique une mÃ©thode d'interprÃ©tation prop
 osÃ©e.\nEn fin d'atelier nous verrons aussi deux outils ludiques d'aid
 e Ã  la dÃ©cision et de bilan.\n\"un rÃªveÂ qui s'Ã©vanouitÂ estÂ comm
 e un fruit qu'on n'a pas cueilli\"\nTarifs : 20â‚¬ (arrhes 10â‚¬)\nRÃ©
 servation au 06.23.01.35.96 NadÃ¨ge ou\nhttp://www.larcencieldupartage
 .org/conference-atelier_reves.html\n\nPour plus d'information, aller s
 ur https://epanews.fr/events/conf-rence-atelier-interpr-tation-des-r-v
 es-etre-l-coute-de-soi
DTSTART;TZID=Europe/Paris:20140914T140000
DTEND;TZID=Europe/Paris:20140914T180000
CATEGORIES:11
LOCATION:narbonne
WEBSITE:http://www.larcencieldupartage.org
URL:http://www.larcencieldupartage.org
CONTACT:0623013596
ORGANIZER;CN="L'arc en ciel du partage":https://epanews.fr/profile/Lar
 cencieldupartage
ATTACH;FMTTYPE="image/jpeg":http://storage.ning.com/topology/rest/1.0/
 file/get/1663197466?profile=original
ATTENDEE;ROLE=REQ-PARTICIPANT;PARTSTAT=ACCEPTED;RSVP=TRUE;CN="L'arc en
  ciel du partage":https://epanews.fr/profile/Larcencieldupartage
END:VEVENT
END:VCALENDAR
