BEGIN:VCALENDAR
PRODID:NingEventWidget-v1
VERSION:2.0
METHOD:PUBLISH
BEGIN:VTIMEZONE
TZID:Europe/Paris
X-LIC-LOCATION:Europe/Paris
BEGIN:DAYLIGHT
TZOFFSETFROM:+0100
TZOFFSETTO:+0200
TZNAME:CEST
DTSTART:19700329T020000
RRULE:FREQ=YEARLY;BYMONTH=3;BYDAY=-1SU
END:DAYLIGHT
BEGIN:STANDARD
TZOFFSETFROM:+0200
TZOFFSETTO:+0100
TZNAME:CET
DTSTART:19701025T030000
RRULE:FREQ=YEARLY;BYMONTH=10;BYDAY=-1SU
END:STANDARD
END:VTIMEZONE
BEGIN:VEVENT
UID:2485226:Event:2746866
DTSTAMP:20260422T174736Z
SUMMARY:L'interprÃ©tation des rÃªves
DESCRIPTION:ConfÃ©rence-Atelier animÃ©e par Farida ALIOUANE, Praticien
 ne en Analyse de RÃªves\nQue savez-vous du RÃªve ? Avez-vous connaissa
 nce de tout ce quâ€™il peut nous offrir, lorsque son sens cachÃ© nous 
 est dÃ©voilÃ© ?\nPour accÃ©der Ã  la comprÃ©hension de vos rÃªves, je 
 vous propose de participer Ã  cette ConfÃ©rence-Atelier de dÃ©couverte
  dâ€™analyse et dâ€™interprÃ©tation de rÃªves.\nChaque participant est
  invitÃ© Ã  apporter son rÃªve le plus rÃ©cent et le plus court.Â Deux
  rÃªves seront tirÃ©s au sort parmi les volontaires et seront question
 nÃ©s et interprÃ©tÃ©s en fonction du vÃ©cu du rÃªveur.\nGrÃ¢ce Ã  l'Ã©
 tude de ces deux rÃªves, l'ensemble des participants expÃ©rimentera la
  portÃ©e trans-personnelle et universelle du rÃªve.\nDes apports gÃ©nÃ
 ©raux sur l'interprÃ©tation des rÃªves seront Ã©galement proposÃ©s.\n\
 nEntrÃ©eÂ : 10 â‚¬\nRÃ©servations et renseignementsÂ : 06 62 72 97 17 
 -Â  fa.aliouane@sfr.fr\nÂ \n\nPour plus d'information, aller sur https
 ://epanews.fr/events/conf-rence-atelier-de-d-couverte-l-interpr-tation
 -des-r-ves
DTSTART;TZID=Europe/Paris:20161215T193000
DTEND;TZID=Europe/Paris:20161215T210000
CATEGORIES:83
LOCATION:Toulon centre
WEBSITE:http://www.reveasoi.com
URL:http://www.reveasoi.com
CONTACT:0662729717
ORGANIZER:Association Le Langage Symbolique des RÃªves
ATTACH;FMTTYPE="image/jpeg":http://storage.ning.com/topology/rest/1.0/
 file/get/1663625956?profile=original
ATTENDEE;ROLE=REQ-PARTICIPANT;PARTSTAT=ACCEPTED;RSVP=TRUE;CN="Farida A
 LIOUANE":https://epanews.fr/profile/Fida
END:VEVENT
END:VCALENDAR
